Workbook

Sheet Tabla de puntos
C4: GRADO | D4: 1
C5: POS | D5: ETAPA | E5: PS | F5: GRAL | I5: 1
C6: 0 | D6: 0 | E6: 0 | F6: 0 | I6: 2
C7: 1 | D7: 12 | E7: 3 | F7: 25
C8: 2 | D8: 9 | E8: 2 | F8: 18
C9: 3 | D9: 7 | E9: 1 | F9: 15
C10: 4 | D10: 6 | F10: 12
C11: 5 | D11: 5 | F11: 10
C12: 6 | D12: 4 | F12: 8
C13: 7 | D13: 3 | F13: 6
C14: 8 | D14: 2 | F14: 4
C15: 9 | F15: 2
C16: 10 | F16: 1
C19: GRADO | D19: 2
C20: POS | D20: ETAPA | E20: PS | F20: GRAL
C21: 0 | D21: 0 | E21: 0 | F21: 0
C22: 1 | D22: 18 | E22: 4.5 | F22: 37.5
C23: 2 | D23: 13.5 | E23: 3 | F23: 27
C24: 3 | D24: 10.5 | E24: 1.5 | F24: 22.5
C25: 4 | D25: 9 | F25: 18
C26: 5 | D26: 7.5 | F26: 15
C27: 6 | D27: 6 | F27: 12
C28: 7 | D28: 4.5 | F28: 9
C29: 8 | D29: 3 | F29: 6
C30: 9 | F30: 3
C31: 10 | F31: 1.5

Sheet CLASE MR
B11: POS | C11: N° | D11: CLASE MR - PILOTOS | E11: CDA DE GOMEZ | J11: 1 | K11: TOTAL F1 | L11: SAN JORGE | Q11: 2 | R11: TOTAL F2 | S11: VILLA ELOISA | X11: 1 | Y11: TOTAL F3 | Z11: PUJATO | AE11: 1 | AF11: TOTAL F4 | AG11: AREQUITO | AL11: 1 | AM11: TOTAL F5 | AN11: HUGHES | AS11: 1 | AT11: TOTAL F6 | AU11: CASILDA | AZ11: 1 | BA11: TOTAL F7 | BB11: PÉREZ | BG11: 2 | BH11: TOTAL F8 | BI11: TOTAL | BM11: N° | BN11: CLASE MR - PILOTOS
E12: A | F12: R | G12: E1 | H12: E2 | I12: PS | J12: GRAL | L12: A | M12: R | N12: E1 | O12: E2 | P12: PS | Q12: GRAL | S12: A | T12: R | U12: E1 | V12: E2 | W12: PS | X12: GRAL | Z12: A | AA12: R | AB12: E1 | AC12: E2 | AD12: PS | AE12: GRAL | AG12: A | AH12: R | AI12: E1 | AJ12: E2 | AK12: PS | AL12: GRAL | AN12: A | AO12: R | AP12: E1 | AQ12: E2 | AR12: PS | AS12: GRAL | AU12: A | AV12: R | AW12: E1 | AX12: E2 | AY12: PS | AZ12: GRAL | BB12: A | BC12: R | BD12: E1 | BE12: E2 | BF12: PS | BG12: GRAL
B13: 1° | C13: 1 | D13: Jorge Fontana «««««« | E13: 1 | F13: 5 | G13: 1 | H13: 1 | I13: 1 | J13: 1 | K13: =IF($J$11=1,(E13+F13+(LOOKUP(G13,'Tabla de puntos'!$C$6:$C$16,'Tabla de puntos'!$D$6:$D$16)+LOOKUP(H13,'Tabla de puntos'!$C$6:$C$16,'Tabla de puntos'!$D$6:$D$16)+(LOOKUP(I13,'Tabla de puntos'!$C$6:$C$16,'Tabla de puntos'!$E$6:$E$16))+(LOOKUP(J13,'Tabla de puntos'!$C$6:$C$16,'Tabla de puntos'!$F$6:$F$16)))),(E13+F13+(LOOKUP(G13,'Tabla de puntos'!$C$21:$C$31,'Tabla de puntos'!$D$21:$D$31)+LOOKUP(H13,'Tabla de puntos'!$C$21:$C$31,'Tabla de puntos'!$D$21:$D$31)+(LOOKUP(I13,'Tabla de puntos'!$C$21:$C$31,'Tabla de puntos'!$E$21:$E$31))+(LOOKUP(J13,'Tabla de puntos'!$C$21:$C$31,'Tabla de puntos'!$F$21:$F$31))))) -> 58 | L13: 1 | M13: 5 | N13: 1 | O13: 1 | P13: 1 | Q13: 1 | R13: =IF($Q$11=1,(L13+M13+(LOOKUP(N13,'Tabla de puntos'!$C$6:$C$16,'Tabla de puntos'!$D$6:$D$16)+LOOKUP(O13,'Tabla de puntos'!$C$6:$C$16,'Tabla de puntos'!$D$6:$D$16)+(LOOKUP(P13,'Tabla de puntos'!$C$6:$C$16,'Tabla de puntos'!$E$6:$E$16))+(LOOKUP(Q13,'Tabla de puntos'!$C$6:$C$16,'Tabla de puntos'!$F$6:$F$16)))),(L13+M13+(LOOKUP(N13,'Tabla de puntos'!$C$21:$C$31,'Tabla de puntos'!$D$21:$D$31)+LOOKUP(O13,'Tabla de puntos'!$C$21:$C$31,'Tabla de puntos'!$D$21:$D$31)+(LOOKUP(P13,'Tabla de puntos'!$C$21:$C$31,'Tabla de puntos'!$E$21:$E$31))+(LOOKUP(Q13,'Tabla de puntos'!$C$21:$C$31,'Tabla de puntos'!$F$21:$F$31))))) -> 84 | S13: 1 | T13: 5 | U13: 1 | V13: 1 | W13: 1 | X13: 1 | Y13: =IF($X$11=1,(S13+T13+(LOOKUP(U13,'Tabla de puntos'!$C$6:$C$16,'Tabla de puntos'!$D$6:$D$16)+LOOKUP(V13,'Tabla de puntos'!$C$6:$C$16,'Tabla de puntos'!$D$6:$D$16)+(LOOKUP(W13,'Tabla de puntos'!$C$6:$C$16,'Tabla de puntos'!$E$6:$E$16))+(LOOKUP(X13,'Tabla de puntos'!$C$6:$C$16,'Tabla de puntos'!$F$6:$F$16)))),(S13+T13+(LOOKUP(U13,'Tabla de puntos'!$C$21:$C$31,'Tabla de puntos'!$D$21:$D$31)+LOOKUP(V13,'Tabla de puntos'!$C$21:$C$31,'Tabla de puntos'!$D$21:$D$31)+(LOOKUP(W13,'Tabla de puntos'!$C$21:$C$31,'Tabla de puntos'!$E$21:$E$31))+(LOOKUP(X13,'Tabla de puntos'!$C$21:$C$31,'Tabla de puntos'!$F$21:$F$31))))) -> 58 | AF13: =IF($AE$11=1,(Z13+AA13+(LOOKUP(AB13,'Tabla de puntos'!$C$6:$C$16,'Tabla de puntos'!$D$6:$D$16)+LOOKUP(AC13,'Tabla de puntos'!$C$6:$C$16,'Tabla de puntos'!$D$6:$D$16)+(LOOKUP(AD13,'Tabla de puntos'!$C$6:$C$16,'Tabla de puntos'!$E$6:$E$16))+(LOOKUP(AE13,'Tabla de puntos'!$C$6:$C$16,'Tabla de puntos'!$F$6:$F$16)))),(Z13+AA13+(LOOKUP(AB13,'Tabla de puntos'!$C$21:$C$31,'Tabla de puntos'!$D$21:$D$31)+LOOKUP(AC13,'Tabla de puntos'!$C$21:$C$31,'Tabla de puntos'!$D$21:$D$31)+(LOOKUP(AD13,'Tabla de puntos'!$C$21:$C$31,'Tabla de puntos'!$E$21:$E$31))+(LOOKUP(AE13,'Tabla de puntos'!$C$21:$C$31,'Tabla de puntos'!$F$21:$F$31))))) -> 0 | AG13: 1 | AH13: 5 | AI13: 1 | AM13: =IF($AL$11=1,(AG13+AH13+(LOOKUP(AI13,'Tabla de puntos'!$C$6:$C$16,'Tabla de puntos'!$D$6:$D$16)+LOOKUP(AJ13,'Tabla de puntos'!$C$6:$C$16,'Tabla de puntos'!$D$6:$D$16)+(LOOKUP(AK13,'Tabla de puntos'!$C$6:$C$16,'Tabla de puntos'!$E$6:$E$16))+(LOOKUP(AL13,'Tabla de puntos'!$C$6:$C$16,'Tabla de puntos'!$F$6:$F$16)))),(AG13+AH13+(LOOKUP(AI13,'Tabla de puntos'!$C$21:$C$31,'Tabla de puntos'!$D$21:$D$31)+LOOKUP(AJ13,'Tabla de puntos'!$C$21:$C$31,'Tabla de puntos'!$D$21:$D$31)+(LOOKUP(AK13,'Tabla de puntos'!$C$21:$C$31,'Tabla de puntos'!$E$21:$E$31))+(LOOKUP(AL13,'Tabla de puntos'!$C$21:$C$31,'Tabla de puntos'!$F$21:$F$31))))) -> 18 | AN13: 1 | AO13: 5 | AP13: 1 | AQ13: 1 | AR13: 1 | AS13: 1 | AT13: =IF($AS$11=1,(AN13+AO13+(LOOKUP(AP13,'Tabla de puntos'!$C$6:$C$16,'Tabla de puntos'!$D$6:$D$16)+LOOKUP(AQ13,'Tabla de puntos'!$C$6:$C$16,'Tabla de puntos'!$D$6:$D$16)+(LOOKUP(AR13,'Tabla de puntos'!$C$6:$C$16,'Tabla de puntos'!$E$6:$E$16))+(LOOKUP(AS13,'Tabla de puntos'!$C$6:$C$16,'Tabla de puntos'!$F$6:$F$16)))),(AN13+AO13+(LOOKUP(AP13,'Tabla de puntos'!$C$21:$C$31,'Tabla de puntos'!$D$21:$D$31)+LOOKUP(AQ13,'Tabla de puntos'!$C$21:$C$31,'Tabla de puntos'!$D$21:$D$31)+(LOOKUP(AR13,'Tabla de puntos'!$C$21:$C$31,'Tabla de puntos'!$E$21:$E$31))+(LOOKUP(AS13,'Tabla de puntos'!$C$21:$C$31,'Tabla de puntos'!$F$21:$F$31))))) -> 58 | AU13: 1 | AV13: 5 | AW13: 1 | AZ13: 1 | BA13: =IF($AZ$11=1,(AU13+AV13+(LOOKUP(AW13,'Tabla de puntos'!$C$6:$C$16,'Tabla de puntos'!$D$6:$D$16)+LOOKUP(AX13,'Tabla de puntos'!$C$6:$C$16,'Tabla de puntos'!$D$6:$D$16)+(LOOKUP(AY13,'Tabla de puntos'!$C$6:$C$16,'Tabla de puntos'!$E$6:$E$16))+(LOOKUP(AZ13,'Tabla de puntos'!$C$6:$C$16,'Tabla de puntos'!$F$6:$F$16)))),(AU13+AV13+(LOOKUP(AW13,'Tabla de puntos'!$C$21:$C$31,'Tabla de puntos'!$D$21:$D$31)+LOOKUP(AX13,'Tabla de puntos'!$C$21:$C$31,'Tabla de puntos'!$D$21:$D$31)+(LOOKUP(AY13,'Tabla de puntos'!$C$21:$C$31,'Tabla de puntos'!$E$21:$E$31))+(LOOKUP(AZ13,'Tabla de puntos'!$C$21:$C$31,'Tabla de puntos'!$F$21:$F$31))))) -> 43 | BB13: 1 | BC13: 5 | BD13: 1 | BE13: 1 | BF13: 1 | BG13: 1 | BH13: =IF($BG$11=1,(BB13+BC13+(LOOKUP(BD13,'Tabla de puntos'!$C$6:$C$16,'Tabla de puntos'!$D$6:$D$16)+LOOKUP(BE13,'Tabla de puntos'!$C$6:$C$16,'Tabla de puntos'!$D$6:$D$16)+(LOOKUP(BF13,'Tabla de puntos'!$C$6:$C$16,'Tabla de puntos'!$E$6:$E$16))+(LOOKUP(BG13,'Tabla de puntos'!$C$6:$C$16,'Tabla de puntos'!$F$6:$F$16)))),(BB13+BC13+(LOOKUP(BD13,'Tabla de puntos'!$C$21:$C$31,'Tabla de puntos'!$D$21:$D$31)+LOOKUP(BE13,'Tabla de puntos'!$C$21:$C$31,'Tabla de puntos'!$D$21:$D$31)+(LOOKUP(BF13,'Tabla de puntos'!$C$21:$C$31,'Tabla de puntos'!$E$21:$E$31))+(LOOKUP(BG13,'Tabla de puntos'!$C$21:$C$31,'Tabla de puntos'!$F$21:$F$31))))) -> 84 | BI13: =K13+R13+Y13+AF13+AM13+AT13+BA13+BH13 -> 403 | BM13: 1 | BN13: Jorge Fontana
B14: 2° | C14: 5 | D14: Marcelo Dalmazzo | K14: =IF($J$11=1,(E14+F14+(LOOKUP(G14,'Tabla de puntos'!$C$6:$C$16,'Tabla de puntos'!$D$6:$D$16)+LOOKUP(H14,'Tabla de puntos'!$C$6:$C$16,'Tabla de puntos'!$D$6:$D$16)+(LOOKUP(I14,'Tabla de puntos'!$C$6:$C$16,'Tabla de puntos'!$E$6:$E$16))+(LOOKUP(J14,'Tabla de puntos'!$C$6:$C$16,'Tabla de puntos'!$F$6:$F$16)))),(E14+F14+(LOOKUP(G14,'Tabla de puntos'!$C$21:$C$31,'Tabla de puntos'!$D$21:$D$31)+LOOKUP(H14,'Tabla de puntos'!$C$21:$C$31,'Tabla de puntos'!$D$21:$D$31)+(LOOKUP(I14,'Tabla de puntos'!$C$21:$C$31,'Tabla de puntos'!$E$21:$E$31))+(LOOKUP(J14,'Tabla de puntos'!$C$21:$C$31,'Tabla de puntos'!$F$21:$F$31))))) -> 0 | L14: 1 | M14: 5 | N14: 2 | R14: =IF($Q$11=1,(L14+M14+(LOOKUP(N14,'Tabla de puntos'!$C$6:$C$16,'Tabla de puntos'!$D$6:$D$16)+LOOKUP(O14,'Tabla de puntos'!$C$6:$C$16,'Tabla de puntos'!$D$6:$D$16)+(LOOKUP(P14,'Tabla de puntos'!$C$6:$C$16,'Tabla de puntos'!$E$6:$E$16))+(LOOKUP(Q14,'Tabla de puntos'!$C$6:$C$16,'Tabla de puntos'!$F$6:$F$16)))),(L14+M14+(LOOKUP(N14,'Tabla de puntos'!$C$21:$C$31,'Tabla de puntos'!$D$21:$D$31)+LOOKUP(O14,'Tabla de puntos'!$C$21:$C$31,'Tabla de puntos'!$D$21:$D$31)+(LOOKUP(P14,'Tabla de puntos'!$C$21:$C$31,'Tabla de puntos'!$E$21:$E$31))+(LOOKUP(Q14,'Tabla de puntos'!$C$21:$C$31,'Tabla de puntos'!$F$21:$F$31))))) -> 19.5 | Y14: =IF($X$11=1,(S14+T14+(LOOKUP(U14,'Tabla de puntos'!$C$6:$C$16,'Tabla de puntos'!$D$6:$D$16)+LOOKUP(V14,'Tabla de puntos'!$C$6:$C$16,'Tabla de puntos'!$D$6:$D$16)+(LOOKUP(W14,'Tabla de puntos'!$C$6:$C$16,'Tabla de puntos'!$E$6:$E$16))+(LOOKUP(X14,'Tabla de puntos'!$C$6:$C$16,'Tabla de puntos'!$F$6:$F$16)))),(S14+T14+(LOOKUP(U14,'Tabla de puntos'!$C$21:$C$31,'Tabla de puntos'!$D$21:$D$31)+LOOKUP(V14,'Tabla de puntos'!$C$21:$C$31,'Tabla de puntos'!$D$21:$D$31)+(LOOKUP(W14,'Tabla de puntos'!$C$21:$C$31,'Tabla de puntos'!$E$21:$E$31))+(LOOKUP(X14,'Tabla de puntos'!$C$21:$C$31,'Tabla de puntos'!$F$21:$F$31))))) -> 0 | AF14: =IF($AE$11=1,(Z14+AA14+(LOOKUP(AB14,'Tabla de puntos'!$C$6:$C$16,'Tabla de puntos'!$D$6:$D$16)+LOOKUP(AC14,'Tabla de puntos'!$C$6:$C$16,'Tabla de puntos'!$D$6:$D$16)+(LOOKUP(AD14,'Tabla de puntos'!$C$6:$C$16,'Tabla de puntos'!$E$6:$E$16))+(LOOKUP(AE14,'Tabla de puntos'!$C$6:$C$16,'Tabla de puntos'!$F$6:$F$16)))),(Z14+AA14+(LOOKUP(AB14,'Tabla de puntos'!$C$21:$C$31,'Tabla de puntos'!$D$21:$D$31)+LOOKUP(AC14,'Tabla de puntos'!$C$21:$C$31,'Tabla de puntos'!$D$21:$D$31)+(LOOKUP(AD14,'Tabla de puntos'!$C$21:$C$31,'Tabla de puntos'!$E$21:$E$31))+(LOOKUP(AE14,'Tabla de puntos'!$C$21:$C$31,'Tabla de puntos'!$F$21:$F$31))))) -> 0 | AM14: =IF($AL$11=1,(AG14+AH14+(LOOKUP(AI14,'Tabla de puntos'!$C$6:$C$16,'Tabla de puntos'!$D$6:$D$16)+LOOKUP(AJ14,'Tabla de puntos'!$C$6:$C$16,'Tabla de puntos'!$D$6:$D$16)+(LOOKUP(AK14,'Tabla de puntos'!$C$6:$C$16,'Tabla de puntos'!$E$6:$E$16))+(LOOKUP(AL14,'Tabla de puntos'!$C$6:$C$16,'Tabla de puntos'!$F$6:$F$16)))),(AG14+AH14+(LOOKUP(AI14,'Tabla de puntos'!$C$21:$C$31,'Tabla de puntos'!$D$21:$D$31)+LOOKUP(AJ14,'Tabla de puntos'!$C$21:$C$31,'Tabla de puntos'!$D$21:$D$31)+(LOOKUP(AK14,'Tabla de puntos'!$C$21:$C$31,'Tabla de puntos'!$E$21:$E$31))+(LOOKUP(AL14,'Tabla de puntos'!$C$21:$C$31,'Tabla de puntos'!$F$21:$F$31))))) -> 0 | AT14: =IF($AS$11=1,(AN14+AO14+(LOOKUP(AP14,'Tabla de puntos'!$C$6:$C$16,'Tabla de puntos'!$D$6:$D$16)+LOOKUP(AQ14,'Tabla de puntos'!$C$6:$C$16,'Tabla de puntos'!$D$6:$D$16)+(LOOKUP(AR14,'Tabla de puntos'!$C$6:$C$16,'Tabla de puntos'!$E$6:$E$16))+(LOOKUP(AS14,'Tabla de puntos'!$C$6:$C$16,'Tabla de puntos'!$F$6:$F$16)))),(AN14+AO14+(LOOKUP(AP14,'Tabla de puntos'!$C$21:$C$31,'Tabla de puntos'!$D$21:$D$31)+LOOKUP(AQ14,'Tabla de puntos'!$C$21:$C$31,'Tabla de puntos'!$D$21:$D$31)+(LOOKUP(AR14,'Tabla de puntos'!$C$21:$C$31,'Tabla de puntos'!$E$21:$E$31))+(LOOKUP(AS14,'Tabla de puntos'!$C$21:$C$31,'Tabla de puntos'!$F$21:$F$31))))) -> 0 | BA14: =IF($AZ$11=1,(AU14+AV14+(LOOKUP(AW14,'Tabla de puntos'!$C$6:$C$16,'Tabla de puntos'!$D$6:$D$16)+LOOKUP(AX14,'Tabla de puntos'!$C$6:$C$16,'Tabla de puntos'!$D$6:$D$16)+(LOOKUP(AY14,'Tabla de puntos'!$C$6:$C$16,'Tabla de puntos'!$E$6:$E$16))+(LOOKUP(AZ14,'Tabla de puntos'!$C$6:$C$16,'Tabla de puntos'!$F$6:$F$16)))),(AU14+AV14+(LOOKUP(AW14,'Tabla de puntos'!$C$21:$C$31,'Tabla de puntos'!$D$21:$D$31)+LOOKUP(AX14,'Tabla de puntos'!$C$21:$C$31,'Tabla de puntos'!$D$21:$D$31)+(LOOKUP(AY14,'Tabla de puntos'!$C$21:$C$31,'Tabla de puntos'!$E$21:$E$31))+(LOOKUP(AZ14,'Tabla de puntos'!$C$21:$C$31,'Tabla de puntos'!$F$21:$F$31))))) -> 0 | BH14: =IF($BG$11=1,(BB14+BC14+(LOOKUP(BD14,'Tabla de puntos'!$C$6:$C$16,'Tabla de puntos'!$D$6:$D$16)+LOOKUP(BE14,'Tabla de puntos'!$C$6:$C$16,'Tabla de puntos'!$D$6:$D$16)+(LOOKUP(BF14,'Tabla de puntos'!$C$6:$C$16,'Tabla de puntos'!$E$6:$E$16))+(LOOKUP(BG14,'Tabla de puntos'!$C$6:$C$16,'Tabla de puntos'!$F$6:$F$16)))),(BB14+BC14+(LOOKUP(BD14,'Tabla de puntos'!$C$21:$C$31,'Tabla de puntos'!$D$21:$D$31)+LOOKUP(BE14,'Tabla de puntos'!$C$21:$C$31,'Tabla de puntos'!$D$21:$D$31)+(LOOKUP(BF14,'Tabla de puntos'!$C$21:$C$31,'Tabla de puntos'!$E$21:$E$31))+(LOOKUP(BG14,'Tabla de puntos'!$C$21:$C$31,'Tabla de puntos'!$F$21:$F$31))))) -> 0 | BI14: =K14+R14+Y14+AF14+AM14+AT14+BA14+BH14 -> 19.5 | BM14: 2 | BN14: Marcelo Dalmazzo
B15: 3° | C15: 2 | D15: Salvador Pensato | E15: 1 | K15: =IF($J$11=1,(E15+F15+(LOOKUP(G15,'Tabla de puntos'!$C$6:$C$16,'Tabla de puntos'!$D$6:$D$16)+LOOKUP(H15,'Tabla de puntos'!$C$6:$C$16,'Tabla de puntos'!$D$6:$D$16)+(LOOKUP(I15,'Tabla de puntos'!$C$6:$C$16,'Tabla de puntos'!$E$6:$E$16))+(LOOKUP(J15,'Tabla de puntos'!$C$6:$C$16,'Tabla de puntos'!$F$6:$F$16)))),(E15+F15+(LOOKUP(G15,'Tabla de puntos'!$C$21:$C$31,'Tabla de puntos'!$D$21:$D$31)+LOOKUP(H15,'Tabla de puntos'!$C$21:$C$31,'Tabla de puntos'!$D$21:$D$31)+(LOOKUP(I15,'Tabla de puntos'!$C$21:$C$31,'Tabla de puntos'!$E$21:$E$31))+(LOOKUP(J15,'Tabla de puntos'!$C$21:$C$31,'Tabla de puntos'!$F$21:$F$31))))) -> 1 | R15: =IF($Q$11=1,(L15+M15+(LOOKUP(N15,'Tabla de puntos'!$C$6:$C$16,'Tabla de puntos'!$D$6:$D$16)+LOOKUP(O15,'Tabla de puntos'!$C$6:$C$16,'Tabla de puntos'!$D$6:$D$16)+(LOOKUP(P15,'Tabla de puntos'!$C$6:$C$16,'Tabla de puntos'!$E$6:$E$16))+(LOOKUP(Q15,'Tabla de puntos'!$C$6:$C$16,'Tabla de puntos'!$F$6:$F$16)))),(L15+M15+(LOOKUP(N15,'Tabla de puntos'!$C$21:$C$31,'Tabla de puntos'!$D$21:$D$31)+LOOKUP(O15,'Tabla de puntos'!$C$21:$C$31,'Tabla de puntos'!$D$21:$D$31)+(LOOKUP(P15,'Tabla de puntos'!$C$21:$C$31,'Tabla de puntos'!$E$21:$E$31))+(LOOKUP(Q15,'Tabla de puntos'!$C$21:$C$31,'Tabla de puntos'!$F$21:$F$31))))) -> 0 | Y15: =IF($X$11=1,(S15+T15+(LOOKUP(U15,'Tabla de puntos'!$C$6:$C$16,'Tabla de puntos'!$D$6:$D$16)+LOOKUP(V15,'Tabla de puntos'!$C$6:$C$16,'Tabla de puntos'!$D$6:$D$16)+(LOOKUP(W15,'Tabla de puntos'!$C$6:$C$16,'Tabla de puntos'!$E$6:$E$16))+(LOOKUP(X15,'Tabla de puntos'!$C$6:$C$16,'Tabla de puntos'!$F$6:$F$16)))),(S15+T15+(LOOKUP(U15,'Tabla de puntos'!$C$21:$C$31,'Tabla de puntos'!$D$21:$D$31)+LOOKUP(V15,'Tabla de puntos'!$C$21:$C$31,'Tabla de puntos'!$D$21:$D$31)+(LOOKUP(W15,'Tabla de puntos'!$C$21:$C$31,'Tabla de puntos'!$E$21:$E$31))+(LOOKUP(X15,'Tabla de puntos'!$C$21:$C$31,'Tabla de puntos'!$F$21:$F$31))))) -> 0 | AF15: =IF($AE$11=1,(Z15+AA15+(LOOKUP(AB15,'Tabla de puntos'!$C$6:$C$16,'Tabla de puntos'!$D$6:$D$16)+LOOKUP(AC15,'Tabla de puntos'!$C$6:$C$16,'Tabla de puntos'!$D$6:$D$16)+(LOOKUP(AD15,'Tabla de puntos'!$C$6:$C$16,'Tabla de puntos'!$E$6:$E$16))+(LOOKUP(AE15,'Tabla de puntos'!$C$6:$C$16,'Tabla de puntos'!$F$6:$F$16)))),(Z15+AA15+(LOOKUP(AB15,'Tabla de puntos'!$C$21:$C$31,'Tabla de puntos'!$D$21:$D$31)+LOOKUP(AC15,'Tabla de puntos'!$C$21:$C$31,'Tabla de puntos'!$D$21:$D$31)+(LOOKUP(AD15,'Tabla de puntos'!$C$21:$C$31,'Tabla de puntos'!$E$21:$E$31))+(LOOKUP(AE15,'Tabla de puntos'!$C$21:$C$31,'Tabla de puntos'!$F$21:$F$31))))) -> 0 | AM15: =IF($AL$11=1,(AG15+AH15+(LOOKUP(AI15,'Tabla de puntos'!$C$6:$C$16,'Tabla de puntos'!$D$6:$D$16)+LOOKUP(AJ15,'Tabla de puntos'!$C$6:$C$16,'Tabla de puntos'!$D$6:$D$16)+(LOOKUP(AK15,'Tabla de puntos'!$C$6:$C$16,'Tabla de puntos'!$E$6:$E$16))+(LOOKUP(AL15,'Tabla de puntos'!$C$6:$C$16,'Tabla de puntos'!$F$6:$F$16)))),(AG15+AH15+(LOOKUP(AI15,'Tabla de puntos'!$C$21:$C$31,'Tabla de puntos'!$D$21:$D$31)+LOOKUP(AJ15,'Tabla de puntos'!$C$21:$C$31,'Tabla de puntos'!$D$21:$D$31)+(LOOKUP(AK15,'Tabla de puntos'!$C$21:$C$31,'Tabla de puntos'!$E$21:$E$31))+(LOOKUP(AL15,'Tabla de puntos'!$C$21:$C$31,'Tabla de puntos'!$F$21:$F$31))))) -> 0 | AT15: =IF($AS$11=1,(AN15+AO15+(LOOKUP(AP15,'Tabla de puntos'!$C$6:$C$16,'Tabla de puntos'!$D$6:$D$16)+LOOKUP(AQ15,'Tabla de puntos'!$C$6:$C$16,'Tabla de puntos'!$D$6:$D$16)+(LOOKUP(AR15,'Tabla de puntos'!$C$6:$C$16,'Tabla de puntos'!$E$6:$E$16))+(LOOKUP(AS15,'Tabla de puntos'!$C$6:$C$16,'Tabla de puntos'!$F$6:$F$16)))),(AN15+AO15+(LOOKUP(AP15,'Tabla de puntos'!$C$21:$C$31,'Tabla de puntos'!$D$21:$D$31)+LOOKUP(AQ15,'Tabla de puntos'!$C$21:$C$31,'Tabla de puntos'!$D$21:$D$31)+(LOOKUP(AR15,'Tabla de puntos'!$C$21:$C$31,'Tabla de puntos'!$E$21:$E$31))+(LOOKUP(AS15,'Tabla de puntos'!$C$21:$C$31,'Tabla de puntos'!$F$21:$F$31))))) -> 0 | BA15: =IF($AZ$11=1,(AU15+AV15+(LOOKUP(AW15,'Tabla de puntos'!$C$6:$C$16,'Tabla de puntos'!$D$6:$D$16)+LOOKUP(AX15,'Tabla de puntos'!$C$6:$C$16,'Tabla de puntos'!$D$6:$D$16)+(LOOKUP(AY15,'Tabla de puntos'!$C$6:$C$16,'Tabla de puntos'!$E$6:$E$16))+(LOOKUP(AZ15,'Tabla de puntos'!$C$6:$C$16,'Tabla de puntos'!$F$6:$F$16)))),(AU15+AV15+(LOOKUP(AW15,'Tabla de puntos'!$C$21:$C$31,'Tabla de puntos'!$D$21:$D$31)+LOOKUP(AX15,'Tabla de puntos'!$C$21:$C$31,'Tabla de puntos'!$D$21:$D$31)+(LOOKUP(AY15,'Tabla de puntos'!$C$21:$C$31,'Tabla de puntos'!$E$21:$E$31))+(LOOKUP(AZ15,'Tabla de puntos'!$C$21:$C$31,'Tabla de puntos'!$F$21:$F$31))))) -> 0 | BH15: =IF($BG$11=1,(BB15+BC15+(LOOKUP(BD15,'Tabla de puntos'!$C$6:$C$16,'Tabla de puntos'!$D$6:$D$16)+LOOKUP(BE15,'Tabla de puntos'!$C$6:$C$16,'Tabla de puntos'!$D$6:$D$16)+(LOOKUP(BF15,'Tabla de puntos'!$C$6:$C$16,'Tabla de puntos'!$E$6:$E$16))+(LOOKUP(BG15,'Tabla de puntos'!$C$6:$C$16,'Tabla de puntos'!$F$6:$F$16)))),(BB15+BC15+(LOOKUP(BD15,'Tabla de puntos'!$C$21:$C$31,'Tabla de puntos'!$D$21:$D$31)+LOOKUP(BE15,'Tabla de puntos'!$C$21:$C$31,'Tabla de puntos'!$D$21:$D$31)+(LOOKUP(BF15,'Tabla de puntos'!$C$21:$C$31,'Tabla de puntos'!$E$21:$E$31))+(LOOKUP(BG15,'Tabla de puntos'!$C$21:$C$31,'Tabla de puntos'!$F$21:$F$31))))) -> 0 | BI15: =K15+R15+Y15+AF15+AM15+AT15+BA15+BH15 -> 1 | BM15: 3 | BN15: Salvador Pensato
B16: 4° | C16: 7 | D16: Erik Santos | K16: =IF($J$11=1,(E16+F16+(LOOKUP(G16,'Tabla de puntos'!$C$6:$C$16,'Tabla de puntos'!$D$6:$D$16)+LOOKUP(H16,'Tabla de puntos'!$C$6:$C$16,'Tabla de puntos'!$D$6:$D$16)+(LOOKUP(I16,'Tabla de puntos'!$C$6:$C$16,'Tabla de puntos'!$E$6:$E$16))+(LOOKUP(J16,'Tabla de puntos'!$C$6:$C$16,'Tabla de puntos'!$F$6:$F$16)))),(E16+F16+(LOOKUP(G16,'Tabla de puntos'!$C$21:$C$31,'Tabla de puntos'!$D$21:$D$31)+LOOKUP(H16,'Tabla de puntos'!$C$21:$C$31,'Tabla de puntos'!$D$21:$D$31)+(LOOKUP(I16,'Tabla de puntos'!$C$21:$C$31,'Tabla de puntos'!$E$21:$E$31))+(LOOKUP(J16,'Tabla de puntos'!$C$21:$C$31,'Tabla de puntos'!$F$21:$F$31))))) -> 0 | R16: =IF($Q$11=1,(L16+M16+(LOOKUP(N16,'Tabla de puntos'!$C$6:$C$16,'Tabla de puntos'!$D$6:$D$16)+LOOKUP(O16,'Tabla de puntos'!$C$6:$C$16,'Tabla de puntos'!$D$6:$D$16)+(LOOKUP(P16,'Tabla de puntos'!$C$6:$C$16,'Tabla de puntos'!$E$6:$E$16))+(LOOKUP(Q16,'Tabla de puntos'!$C$6:$C$16,'Tabla de puntos'!$F$6:$F$16)))),(L16+M16+(LOOKUP(N16,'Tabla de puntos'!$C$21:$C$31,'Tabla de puntos'!$D$21:$D$31)+LOOKUP(O16,'Tabla de puntos'!$C$21:$C$31,'Tabla de puntos'!$D$21:$D$31)+(LOOKUP(P16,'Tabla de puntos'!$C$21:$C$31,'Tabla de puntos'!$E$21:$E$31))+(LOOKUP(Q16,'Tabla de puntos'!$C$21:$C$31,'Tabla de puntos'!$F$21:$F$31))))) -> 0 | Y16: =IF($X$11=1,(S16+T16+(LOOKUP(U16,'Tabla de puntos'!$C$6:$C$16,'Tabla de puntos'!$D$6:$D$16)+LOOKUP(V16,'Tabla de puntos'!$C$6:$C$16,'Tabla de puntos'!$D$6:$D$16)+(LOOKUP(W16,'Tabla de puntos'!$C$6:$C$16,'Tabla de puntos'!$E$6:$E$16))+(LOOKUP(X16,'Tabla de puntos'!$C$6:$C$16,'Tabla de puntos'!$F$6:$F$16)))),(S16+T16+(LOOKUP(U16,'Tabla de puntos'!$C$21:$C$31,'Tabla de puntos'!$D$21:$D$31)+LOOKUP(V16,'Tabla de puntos'!$C$21:$C$31,'Tabla de puntos'!$D$21:$D$31)+(LOOKUP(W16,'Tabla de puntos'!$C$21:$C$31,'Tabla de puntos'!$E$21:$E$31))+(LOOKUP(X16,'Tabla de puntos'!$C$21:$C$31,'Tabla de puntos'!$F$21:$F$31))))) -> 0 | AF16: =IF($AE$11=1,(Z16+AA16+(LOOKUP(AB16,'Tabla de puntos'!$C$6:$C$16,'Tabla de puntos'!$D$6:$D$16)+LOOKUP(AC16,'Tabla de puntos'!$C$6:$C$16,'Tabla de puntos'!$D$6:$D$16)+(LOOKUP(AD16,'Tabla de puntos'!$C$6:$C$16,'Tabla de puntos'!$E$6:$E$16))+(LOOKUP(AE16,'Tabla de puntos'!$C$6:$C$16,'Tabla de puntos'!$F$6:$F$16)))),(Z16+AA16+(LOOKUP(AB16,'Tabla de puntos'!$C$21:$C$31,'Tabla de puntos'!$D$21:$D$31)+LOOKUP(AC16,'Tabla de puntos'!$C$21:$C$31,'Tabla de puntos'!$D$21:$D$31)+(LOOKUP(AD16,'Tabla de puntos'!$C$21:$C$31,'Tabla de puntos'!$E$21:$E$31))+(LOOKUP(AE16,'Tabla de puntos'!$C$21:$C$31,'Tabla de puntos'!$F$21:$F$31))))) -> 0 | AM16: =IF($AL$11=1,(AG16+AH16+(LOOKUP(AI16,'Tabla de puntos'!$C$6:$C$16,'Tabla de puntos'!$D$6:$D$16)+LOOKUP(AJ16,'Tabla de puntos'!$C$6:$C$16,'Tabla de puntos'!$D$6:$D$16)+(LOOKUP(AK16,'Tabla de puntos'!$C$6:$C$16,'Tabla de puntos'!$E$6:$E$16))+(LOOKUP(AL16,'Tabla de puntos'!$C$6:$C$16,'Tabla de puntos'!$F$6:$F$16)))),(AG16+AH16+(LOOKUP(AI16,'Tabla de puntos'!$C$21:$C$31,'Tabla de puntos'!$D$21:$D$31)+LOOKUP(AJ16,'Tabla de puntos'!$C$21:$C$31,'Tabla de puntos'!$D$21:$D$31)+(LOOKUP(AK16,'Tabla de puntos'!$C$21:$C$31,'Tabla de puntos'!$E$21:$E$31))+(LOOKUP(AL16,'Tabla de puntos'!$C$21:$C$31,'Tabla de puntos'!$F$21:$F$31))))) -> 0 | AT16: =IF($AS$11=1,(AN16+AO16+(LOOKUP(AP16,'Tabla de puntos'!$C$6:$C$16,'Tabla de puntos'!$D$6:$D$16)+LOOKUP(AQ16,'Tabla de puntos'!$C$6:$C$16,'Tabla de puntos'!$D$6:$D$16)+(LOOKUP(AR16,'Tabla de puntos'!$C$6:$C$16,'Tabla de puntos'!$E$6:$E$16))+(LOOKUP(AS16,'Tabla de puntos'!$C$6:$C$16,'Tabla de puntos'!$F$6:$F$16)))),(AN16+AO16+(LOOKUP(AP16,'Tabla de puntos'!$C$21:$C$31,'Tabla de puntos'!$D$21:$D$31)+LOOKUP(AQ16,'Tabla de puntos'!$C$21:$C$31,'Tabla de puntos'!$D$21:$D$31)+(LOOKUP(AR16,'Tabla de puntos'!$C$21:$C$31,'Tabla de puntos'!$E$21:$E$31))+(LOOKUP(AS16,'Tabla de puntos'!$C$21:$C$31,'Tabla de puntos'!$F$21:$F$31))))) -> 0 | BA16: =IF($AZ$11=1,(AU16+AV16+(LOOKUP(AW16,'Tabla de puntos'!$C$6:$C$16,'Tabla de puntos'!$D$6:$D$16)+LOOKUP(AX16,'Tabla de puntos'!$C$6:$C$16,'Tabla de puntos'!$D$6:$D$16)+(LOOKUP(AY16,'Tabla de puntos'!$C$6:$C$16,'Tabla de puntos'!$E$6:$E$16))+(LOOKUP(AZ16,'Tabla de puntos'!$C$6:$C$16,'Tabla de puntos'!$F$6:$F$16)))),(AU16+AV16+(LOOKUP(AW16,'Tabla de puntos'!$C$21:$C$31,'Tabla de puntos'!$D$21:$D$31)+LOOKUP(AX16,'Tabla de puntos'!$C$21:$C$31,'Tabla de puntos'!$D$21:$D$31)+(LOOKUP(AY16,'Tabla de puntos'!$C$21:$C$31,'Tabla de puntos'!$E$21:$E$31))+(LOOKUP(AZ16,'Tabla de puntos'!$C$21:$C$31,'Tabla de puntos'!$F$21:$F$31))))) -> 0 | BH16: INV | BI16: =K16+R16+Y16+AF16+AM16+AT16+BA16 -> 0 | BM16: 4 | BN16: Erik Santos
B17: 5° | K17: =IF($J$11=1,(E17+F17+(LOOKUP(G17,'Tabla de puntos'!$C$6:$C$16,'Tabla de puntos'!$D$6:$D$16)+LOOKUP(H17,'Tabla de puntos'!$C$6:$C$16,'Tabla de puntos'!$D$6:$D$16)+(LOOKUP(I17,'Tabla de puntos'!$C$6:$C$16,'Tabla de puntos'!$E$6:$E$16))+(LOOKUP(J17,'Tabla de puntos'!$C$6:$C$16,'Tabla de puntos'!$F$6:$F$16)))),(E17+F17+(LOOKUP(G17,'Tabla de puntos'!$C$21:$C$31,'Tabla de puntos'!$D$21:$D$31)+LOOKUP(H17,'Tabla de puntos'!$C$21:$C$31,'Tabla de puntos'!$D$21:$D$31)+(LOOKUP(I17,'Tabla de puntos'!$C$21:$C$31,'Tabla de puntos'!$E$21:$E$31))+(LOOKUP(J17,'Tabla de puntos'!$C$21:$C$31,'Tabla de puntos'!$F$21:$F$31))))) -> 0 | R17: =IF($Q$11=1,(L17+M17+(LOOKUP(N17,'Tabla de puntos'!$C$6:$C$16,'Tabla de puntos'!$D$6:$D$16)+LOOKUP(O17,'Tabla de puntos'!$C$6:$C$16,'Tabla de puntos'!$D$6:$D$16)+(LOOKUP(P17,'Tabla de puntos'!$C$6:$C$16,'Tabla de puntos'!$E$6:$E$16))+(LOOKUP(Q17,'Tabla de puntos'!$C$6:$C$16,'Tabla de puntos'!$F$6:$F$16)))),(L17+M17+(LOOKUP(N17,'Tabla de puntos'!$C$21:$C$31,'Tabla de puntos'!$D$21:$D$31)+LOOKUP(O17,'Tabla de puntos'!$C$21:$C$31,'Tabla de puntos'!$D$21:$D$31)+(LOOKUP(P17,'Tabla de puntos'!$C$21:$C$31,'Tabla de puntos'!$E$21:$E$31))+(LOOKUP(Q17,'Tabla de puntos'!$C$21:$C$31,'Tabla de puntos'!$F$21:$F$31))))) -> 0 | Y17: =IF($X$11=1,(S17+T17+(LOOKUP(U17,'Tabla de puntos'!$C$6:$C$16,'Tabla de puntos'!$D$6:$D$16)+LOOKUP(V17,'Tabla de puntos'!$C$6:$C$16,'Tabla de puntos'!$D$6:$D$16)+(LOOKUP(W17,'Tabla de puntos'!$C$6:$C$16,'Tabla de puntos'!$E$6:$E$16))+(LOOKUP(X17,'Tabla de puntos'!$C$6:$C$16,'Tabla de puntos'!$F$6:$F$16)))),(S17+T17+(LOOKUP(U17,'Tabla de puntos'!$C$21:$C$31,'Tabla de puntos'!$D$21:$D$31)+LOOKUP(V17,'Tabla de puntos'!$C$21:$C$31,'Tabla de puntos'!$D$21:$D$31)+(LOOKUP(W17,'Tabla de puntos'!$C$21:$C$31,'Tabla de puntos'!$E$21:$E$31))+(LOOKUP(X17,'Tabla de puntos'!$C$21:$C$31,'Tabla de puntos'!$F$21:$F$31))))) -> 0 | AF17: =IF($AE$11=1,(Z17+AA17+(LOOKUP(AB17,'Tabla de puntos'!$C$6:$C$16,'Tabla de puntos'!$D$6:$D$16)+LOOKUP(AC17,'Tabla de puntos'!$C$6:$C$16,'Tabla de puntos'!$D$6:$D$16)+(LOOKUP(AD17,'Tabla de puntos'!$C$6:$C$16,'Tabla de puntos'!$E$6:$E$16))+(LOOKUP(AE17,'Tabla de puntos'!$C$6:$C$16,'Tabla de puntos'!$F$6:$F$16)))),(Z17+AA17+(LOOKUP(AB17,'Tabla de puntos'!$C$21:$C$31,'Tabla de puntos'!$D$21:$D$31)+LOOKUP(AC17,'Tabla de puntos'!$C$21:$C$31,'Tabla de puntos'!$D$21:$D$31)+(LOOKUP(AD17,'Tabla de puntos'!$C$21:$C$31,'Tabla de puntos'!$E$21:$E$31))+(LOOKUP(AE17,'Tabla de puntos'!$C$21:$C$31,'Tabla de puntos'!$F$21:$F$31))))) -> 0 | AM17: =IF($AL$11=1,(AG17+AH17+(LOOKUP(AI17,'Tabla de puntos'!$C$6:$C$16,'Tabla de puntos'!$D$6:$D$16)+LOOKUP(AJ17,'Tabla de puntos'!$C$6:$C$16,'Tabla de puntos'!$D$6:$D$16)+(LOOKUP(AK17,'Tabla de puntos'!$C$6:$C$16,'Tabla de puntos'!$E$6:$E$16))+(LOOKUP(AL17,'Tabla de puntos'!$C$6:$C$16,'Tabla de puntos'!$F$6:$F$16)))),(AG17+AH17+(LOOKUP(AI17,'Tabla de puntos'!$C$21:$C$31,'Tabla de puntos'!$D$21:$D$31)+LOOKUP(AJ17,'Tabla de puntos'!$C$21:$C$31,'Tabla de puntos'!$D$21:$D$31)+(LOOKUP(AK17,'Tabla de puntos'!$C$21:$C$31,'Tabla de puntos'!$E$21:$E$31))+(LOOKUP(AL17,'Tabla de puntos'!$C$21:$C$31,'Tabla de puntos'!$F$21:$F$31))))) -> 0 | AT17: =IF($AS$11=1,(AN17+AO17+(LOOKUP(AP17,'Tabla de puntos'!$C$6:$C$16,'Tabla de puntos'!$D$6:$D$16)+LOOKUP(AQ17,'Tabla de puntos'!$C$6:$C$16,'Tabla de puntos'!$D$6:$D$16)+(LOOKUP(AR17,'Tabla de puntos'!$C$6:$C$16,'Tabla de puntos'!$E$6:$E$16))+(LOOKUP(AS17,'Tabla de puntos'!$C$6:$C$16,'Tabla de puntos'!$F$6:$F$16)))),(AN17+AO17+(LOOKUP(AP17,'Tabla de puntos'!$C$21:$C$31,'Tabla de puntos'!$D$21:$D$31)+LOOKUP(AQ17,'Tabla de puntos'!$C$21:$C$31,'Tabla de puntos'!$D$21:$D$31)+(LOOKUP(AR17,'Tabla de puntos'!$C$21:$C$31,'Tabla de puntos'!$E$21:$E$31))+(LOOKUP(AS17,'Tabla de puntos'!$C$21:$C$31,'Tabla de puntos'!$F$21:$F$31))))) -> 0 | BA17: =IF($AZ$11=1,(AU17+AV17+(LOOKUP(AW17,'Tabla de puntos'!$C$6:$C$16,'Tabla de puntos'!$D$6:$D$16)+LOOKUP(AX17,'Tabla de puntos'!$C$6:$C$16,'Tabla de puntos'!$D$6:$D$16)+(LOOKUP(AY17,'Tabla de puntos'!$C$6:$C$16,'Tabla de puntos'!$E$6:$E$16))+(LOOKUP(AZ17,'Tabla de puntos'!$C$6:$C$16,'Tabla de puntos'!$F$6:$F$16)))),(AU17+AV17+(LOOKUP(AW17,'Tabla de puntos'!$C$21:$C$31,'Tabla de puntos'!$D$21:$D$31)+LOOKUP(AX17,'Tabla de puntos'!$C$21:$C$31,'Tabla de puntos'!$D$21:$D$31)+(LOOKUP(AY17,'Tabla de puntos'!$C$21:$C$31,'Tabla de puntos'!$E$21:$E$31))+(LOOKUP(AZ17,'Tabla de puntos'!$C$21:$C$31,'Tabla de puntos'!$F$21:$F$31))))) -> 0 | BH17: =IF($BG$11=1,(BB17+BC17+(LOOKUP(BD17,'Tabla de puntos'!$C$6:$C$16,'Tabla de puntos'!$D$6:$D$16)+LOOKUP(BE17,'Tabla de puntos'!$C$6:$C$16,'Tabla de puntos'!$D$6:$D$16)+(LOOKUP(BF17,'Tabla de puntos'!$C$6:$C$16,'Tabla de puntos'!$E$6:$E$16))+(LOOKUP(BG17,'Tabla de puntos'!$C$6:$C$16,'Tabla de puntos'!$F$6:$F$16)))),(BB17+BC17+(LOOKUP(BD17,'Tabla de puntos'!$C$21:$C$31,'Tabla de puntos'!$D$21:$D$31)+LOOKUP(BE17,'Tabla de puntos'!$C$21:$C$31,'Tabla de puntos'!$D$21:$D$31)+(LOOKUP(BF17,'Tabla de puntos'!$C$21:$C$31,'Tabla de puntos'!$E$21:$E$31))+(LOOKUP(BG17,'Tabla de puntos'!$C$21:$C$31,'Tabla de puntos'!$F$21:$F$31))))) -> 0 | BI17: =K17+R17+Y17+AF17+AM17+AT17+BA17+BH17 -> 0
B18: 6° | K18: =IF($J$11=1,(E18+F18+(LOOKUP(G18,'Tabla de puntos'!$C$6:$C$16,'Tabla de puntos'!$D$6:$D$16)+LOOKUP(H18,'Tabla de puntos'!$C$6:$C$16,'Tabla de puntos'!$D$6:$D$16)+(LOOKUP(I18,'Tabla de puntos'!$C$6:$C$16,'Tabla de puntos'!$E$6:$E$16))+(LOOKUP(J18,'Tabla de puntos'!$C$6:$C$16,'Tabla de puntos'!$F$6:$F$16)))),(E18+F18+(LOOKUP(G18,'Tabla de puntos'!$C$21:$C$31,'Tabla de puntos'!$D$21:$D$31)+LOOKUP(H18,'Tabla de puntos'!$C$21:$C$31,'Tabla de puntos'!$D$21:$D$31)+(LOOKUP(I18,'Tabla de puntos'!$C$21:$C$31,'Tabla de puntos'!$E$21:$E$31))+(LOOKUP(J18,'Tabla de puntos'!$C$21:$C$31,'Tabla de puntos'!$F$21:$F$31))))) -> 0 | R18: =IF($Q$11=1,(L18+M18+(LOOKUP(N18,'Tabla de puntos'!$C$6:$C$16,'Tabla de puntos'!$D$6:$D$16)+LOOKUP(O18,'Tabla de puntos'!$C$6:$C$16,'Tabla de puntos'!$D$6:$D$16)+(LOOKUP(P18,'Tabla de puntos'!$C$6:$C$16,'Tabla de puntos'!$E$6:$E$16))+(LOOKUP(Q18,'Tabla de puntos'!$C$6:$C$16,'Tabla de puntos'!$F$6:$F$16)))),(L18+M18+(LOOKUP(N18,'Tabla de puntos'!$C$21:$C$31,'Tabla de puntos'!$D$21:$D$31)+LOOKUP(O18,'Tabla de puntos'!$C$21:$C$31,'Tabla de puntos'!$D$21:$D$31)+(LOOKUP(P18,'Tabla de puntos'!$C$21:$C$31,'Tabla de puntos'!$E$21:$E$31))+(LOOKUP(Q18,'Tabla de puntos'!$C$21:$C$31,'Tabla de puntos'!$F$21:$F$31))))) -> 0 | Y18: =IF($X$11=1,(S18+T18+(LOOKUP(U18,'Tabla de puntos'!$C$6:$C$16,'Tabla de puntos'!$D$6:$D$16)+LOOKUP(V18,'Tabla de puntos'!$C$6:$C$16,'Tabla de puntos'!$D$6:$D$16)+(LOOKUP(W18,'Tabla de puntos'!$C$6:$C$16,'Tabla de puntos'!$E$6:$E$16))+(LOOKUP(X18,'Tabla de puntos'!$C$6:$C$16,'Tabla de puntos'!$F$6:$F$16)))),(S18+T18+(LOOKUP(U18,'Tabla de puntos'!$C$21:$C$31,'Tabla de puntos'!$D$21:$D$31)+LOOKUP(V18,'Tabla de puntos'!$C$21:$C$31,'Tabla de puntos'!$D$21:$D$31)+(LOOKUP(W18,'Tabla de puntos'!$C$21:$C$31,'Tabla de puntos'!$E$21:$E$31))+(LOOKUP(X18,'Tabla de puntos'!$C$21:$C$31,'Tabla de puntos'!$F$21:$F$31))))) -> 0 | AF18: =IF($AE$11=1,(Z18+AA18+(LOOKUP(AB18,'Tabla de puntos'!$C$6:$C$16,'Tabla de puntos'!$D$6:$D$16)+LOOKUP(AC18,'Tabla de puntos'!$C$6:$C$16,'Tabla de puntos'!$D$6:$D$16)+(LOOKUP(AD18,'Tabla de puntos'!$C$6:$C$16,'Tabla de puntos'!$E$6:$E$16))+(LOOKUP(AE18,'Tabla de puntos'!$C$6:$C$16,'Tabla de puntos'!$F$6:$F$16)))),(Z18+AA18+(LOOKUP(AB18,'Tabla de puntos'!$C$21:$C$31,'Tabla de puntos'!$D$21:$D$31)+LOOKUP(AC18,'Tabla de puntos'!$C$21:$C$31,'Tabla de puntos'!$D$21:$D$31)+(LOOKUP(AD18,'Tabla de puntos'!$C$21:$C$31,'Tabla de puntos'!$E$21:$E$31))+(LOOKUP(AE18,'Tabla de puntos'!$C$21:$C$31,'Tabla de puntos'!$F$21:$F$31))))) -> 0 | AM18: =IF($AL$11=1,(AG18+AH18+(LOOKUP(AI18,'Tabla de puntos'!$C$6:$C$16,'Tabla de puntos'!$D$6:$D$16)+LOOKUP(AJ18,'Tabla de puntos'!$C$6:$C$16,'Tabla de puntos'!$D$6:$D$16)+(LOOKUP(AK18,'Tabla de puntos'!$C$6:$C$16,'Tabla de puntos'!$E$6:$E$16))+(LOOKUP(AL18,'Tabla de puntos'!$C$6:$C$16,'Tabla de puntos'!$F$6:$F$16)))),(AG18+AH18+(LOOKUP(AI18,'Tabla de puntos'!$C$21:$C$31,'Tabla de puntos'!$D$21:$D$31)+LOOKUP(AJ18,'Tabla de puntos'!$C$21:$C$31,'Tabla de puntos'!$D$21:$D$31)+(LOOKUP(AK18,'Tabla de puntos'!$C$21:$C$31,'Tabla de puntos'!$E$21:$E$31))+(LOOKUP(AL18,'Tabla de puntos'!$C$21:$C$31,'Tabla de puntos'!$F$21:$F$31))))) -> 0 | AT18: =IF($AS$11=1,(AN18+AO18+(LOOKUP(AP18,'Tabla de puntos'!$C$6:$C$16,'Tabla de puntos'!$D$6:$D$16)+LOOKUP(AQ18,'Tabla de puntos'!$C$6:$C$16,'Tabla de puntos'!$D$6:$D$16)+(LOOKUP(AR18,'Tabla de puntos'!$C$6:$C$16,'Tabla de puntos'!$E$6:$E$16))+(LOOKUP(AS18,'Tabla de puntos'!$C$6:$C$16,'Tabla de puntos'!$F$6:$F$16)))),(AN18+AO18+(LOOKUP(AP18,'Tabla de puntos'!$C$21:$C$31,'Tabla de puntos'!$D$21:$D$31)+LOOKUP(AQ18,'Tabla de puntos'!$C$21:$C$31,'Tabla de puntos'!$D$21:$D$31)+(LOOKUP(AR18,'Tabla de puntos'!$C$21:$C$31,'Tabla de puntos'!$E$21:$E$31))+(LOOKUP(AS18,'Tabla de puntos'!$C$21:$C$31,'Tabla de puntos'!$F$21:$F$31))))) -> 0 | BA18: =IF($AZ$11=1,(AU18+AV18+(LOOKUP(AW18,'Tabla de puntos'!$C$6:$C$16,'Tabla de puntos'!$D$6:$D$16)+LOOKUP(AX18,'Tabla de puntos'!$C$6:$C$16,'Tabla de puntos'!$D$6:$D$16)+(LOOKUP(AY18,'Tabla de puntos'!$C$6:$C$16,'Tabla de puntos'!$E$6:$E$16))+(LOOKUP(AZ18,'Tabla de puntos'!$C$6:$C$16,'Tabla de puntos'!$F$6:$F$16)))),(AU18+AV18+(LOOKUP(AW18,'Tabla de puntos'!$C$21:$C$31,'Tabla de puntos'!$D$21:$D$31)+LOOKUP(AX18,'Tabla de puntos'!$C$21:$C$31,'Tabla de puntos'!$D$21:$D$31)+(LOOKUP(AY18,'Tabla de puntos'!$C$21:$C$31,'Tabla de puntos'!$E$21:$E$31))+(LOOKUP(AZ18,'Tabla de puntos'!$C$21:$C$31,'Tabla de puntos'!$F$21:$F$31))))) -> 0 | BH18: =IF($BG$11=1,(BB18+BC18+(LOOKUP(BD18,'Tabla de puntos'!$C$6:$C$16,'Tabla de puntos'!$D$6:$D$16)+LOOKUP(BE18,'Tabla de puntos'!$C$6:$C$16,'Tabla de puntos'!$D$6:$D$16)+(LOOKUP(BF18,'Tabla de puntos'!$C$6:$C$16,'Tabla de puntos'!$E$6:$E$16))+(LOOKUP(BG18,'Tabla de puntos'!$C$6:$C$16,'Tabla de puntos'!$F$6:$F$16)))),(BB18+BC18+(LOOKUP(BD18,'Tabla de puntos'!$C$21:$C$31,'Tabla de puntos'!$D$21:$D$31)+LOOKUP(BE18,'Tabla de puntos'!$C$21:$C$31,'Tabla de puntos'!$D$21:$D$31)+(LOOKUP(BF18,'Tabla de puntos'!$C$21:$C$31,'Tabla de puntos'!$E$21:$E$31))+(LOOKUP(BG18,'Tabla de puntos'!$C$21:$C$31,'Tabla de puntos'!$F$21:$F$31))))) -> 0 | BI18: =K18+R18+Y18+AF18+AM18+AT18+BA18+BH18 -> 0
B19: 7° | K19: =IF($J$11=1,(E19+F19+(LOOKUP(G19,'Tabla de puntos'!$C$6:$C$16,'Tabla de puntos'!$D$6:$D$16)+LOOKUP(H19,'Tabla de puntos'!$C$6:$C$16,'Tabla de puntos'!$D$6:$D$16)+(LOOKUP(I19,'Tabla de puntos'!$C$6:$C$16,'Tabla de puntos'!$E$6:$E$16))+(LOOKUP(J19,'Tabla de puntos'!$C$6:$C$16,'Tabla de puntos'!$F$6:$F$16)))),(E19+F19+(LOOKUP(G19,'Tabla de puntos'!$C$21:$C$31,'Tabla de puntos'!$D$21:$D$31)+LOOKUP(H19,'Tabla de puntos'!$C$21:$C$31,'Tabla de puntos'!$D$21:$D$31)+(LOOKUP(I19,'Tabla de puntos'!$C$21:$C$31,'Tabla de puntos'!$E$21:$E$31))+(LOOKUP(J19,'Tabla de puntos'!$C$21:$C$31,'Tabla de puntos'!$F$21:$F$31))))) -> 0 | R19: =IF($Q$11=1,(L19+M19+(LOOKUP(N19,'Tabla de puntos'!$C$6:$C$16,'Tabla de puntos'!$D$6:$D$16)+LOOKUP(O19,'Tabla de puntos'!$C$6:$C$16,'Tabla de puntos'!$D$6:$D$16)+(LOOKUP(P19,'Tabla de puntos'!$C$6:$C$16,'Tabla de puntos'!$E$6:$E$16))+(LOOKUP(Q19,'Tabla de puntos'!$C$6:$C$16,'Tabla de puntos'!$F$6:$F$16)))),(L19+M19+(LOOKUP(N19,'Tabla de puntos'!$C$21:$C$31,'Tabla de puntos'!$D$21:$D$31)+LOOKUP(O19,'Tabla de puntos'!$C$21:$C$31,'Tabla de puntos'!$D$21:$D$31)+(LOOKUP(P19,'Tabla de puntos'!$C$21:$C$31,'Tabla de puntos'!$E$21:$E$31))+(LOOKUP(Q19,'Tabla de puntos'!$C$21:$C$31,'Tabla de puntos'!$F$21:$F$31))))) -> 0 | Y19: =IF($X$11=1,(S19+T19+(LOOKUP(U19,'Tabla de puntos'!$C$6:$C$16,'Tabla de puntos'!$D$6:$D$16)+LOOKUP(V19,'Tabla de puntos'!$C$6:$C$16,'Tabla de puntos'!$D$6:$D$16)+(LOOKUP(W19,'Tabla de puntos'!$C$6:$C$16,'Tabla de puntos'!$E$6:$E$16))+(LOOKUP(X19,'Tabla de puntos'!$C$6:$C$16,'Tabla de puntos'!$F$6:$F$16)))),(S19+T19+(LOOKUP(U19,'Tabla de puntos'!$C$21:$C$31,'Tabla de puntos'!$D$21:$D$31)+LOOKUP(V19,'Tabla de puntos'!$C$21:$C$31,'Tabla de puntos'!$D$21:$D$31)+(LOOKUP(W19,'Tabla de puntos'!$C$21:$C$31,'Tabla de puntos'!$E$21:$E$31))+(LOOKUP(X19,'Tabla de puntos'!$C$21:$C$31,'Tabla de puntos'!$F$21:$F$31))))) -> 0 | AF19: =IF($AE$11=1,(Z19+AA19+(LOOKUP(AB19,'Tabla de puntos'!$C$6:$C$16,'Tabla de puntos'!$D$6:$D$16)+LOOKUP(AC19,'Tabla de puntos'!$C$6:$C$16,'Tabla de puntos'!$D$6:$D$16)+(LOOKUP(AD19,'Tabla de puntos'!$C$6:$C$16,'Tabla de puntos'!$E$6:$E$16))+(LOOKUP(AE19,'Tabla de puntos'!$C$6:$C$16,'Tabla de puntos'!$F$6:$F$16)))),(Z19+AA19+(LOOKUP(AB19,'Tabla de puntos'!$C$21:$C$31,'Tabla de puntos'!$D$21:$D$31)+LOOKUP(AC19,'Tabla de puntos'!$C$21:$C$31,'Tabla de puntos'!$D$21:$D$31)+(LOOKUP(AD19,'Tabla de puntos'!$C$21:$C$31,'Tabla de puntos'!$E$21:$E$31))+(LOOKUP(AE19,'Tabla de puntos'!$C$21:$C$31,'Tabla de puntos'!$F$21:$F$31))))) -> 0 | AM19: =IF($AL$11=1,(AG19+AH19+(LOOKUP(AI19,'Tabla de puntos'!$C$6:$C$16,'Tabla de puntos'!$D$6:$D$16)+LOOKUP(AJ19,'Tabla de puntos'!$C$6:$C$16,'Tabla de puntos'!$D$6:$D$16)+(LOOKUP(AK19,'Tabla de puntos'!$C$6:$C$16,'Tabla de puntos'!$E$6:$E$16))+(LOOKUP(AL19,'Tabla de puntos'!$C$6:$C$16,'Tabla de puntos'!$F$6:$F$16)))),(AG19+AH19+(LOOKUP(AI19,'Tabla de puntos'!$C$21:$C$31,'Tabla de puntos'!$D$21:$D$31)+LOOKUP(AJ19,'Tabla de puntos'!$C$21:$C$31,'Tabla de puntos'!$D$21:$D$31)+(LOOKUP(AK19,'Tabla de puntos'!$C$21:$C$31,'Tabla de puntos'!$E$21:$E$31))+(LOOKUP(AL19,'Tabla de puntos'!$C$21:$C$31,'Tabla de puntos'!$F$21:$F$31))))) -> 0 | AT19: =IF($AS$11=1,(AN19+AO19+(LOOKUP(AP19,'Tabla de puntos'!$C$6:$C$16,'Tabla de puntos'!$D$6:$D$16)+LOOKUP(AQ19,'Tabla de puntos'!$C$6:$C$16,'Tabla de puntos'!$D$6:$D$16)+(LOOKUP(AR19,'Tabla de puntos'!$C$6:$C$16,'Tabla de puntos'!$E$6:$E$16))+(LOOKUP(AS19,'Tabla de puntos'!$C$6:$C$16,'Tabla de puntos'!$F$6:$F$16)))),(AN19+AO19+(LOOKUP(AP19,'Tabla de puntos'!$C$21:$C$31,'Tabla de puntos'!$D$21:$D$31)+LOOKUP(AQ19,'Tabla de puntos'!$C$21:$C$31,'Tabla de puntos'!$D$21:$D$31)+(LOOKUP(AR19,'Tabla de puntos'!$C$21:$C$31,'Tabla de puntos'!$E$21:$E$31))+(LOOKUP(AS19,'Tabla de puntos'!$C$21:$C$31,'Tabla de puntos'!$F$21:$F$31))))) -> 0 | BA19: =IF($AZ$11=1,(AU19+AV19+(LOOKUP(AW19,'Tabla de puntos'!$C$6:$C$16,'Tabla de puntos'!$D$6:$D$16)+LOOKUP(AX19,'Tabla de puntos'!$C$6:$C$16,'Tabla de puntos'!$D$6:$D$16)+(LOOKUP(AY19,'Tabla de puntos'!$C$6:$C$16,'Tabla de puntos'!$E$6:$E$16))+(LOOKUP(AZ19,'Tabla de puntos'!$C$6:$C$16,'Tabla de puntos'!$F$6:$F$16)))),(AU19+AV19+(LOOKUP(AW19,'Tabla de puntos'!$C$21:$C$31,'Tabla de puntos'!$D$21:$D$31)+LOOKUP(AX19,'Tabla de puntos'!$C$21:$C$31,'Tabla de puntos'!$D$21:$D$31)+(LOOKUP(AY19,'Tabla de puntos'!$C$21:$C$31,'Tabla de puntos'!$E$21:$E$31))+(LOOKUP(AZ19,'Tabla de puntos'!$C$21:$C$31,'Tabla de puntos'!$F$21:$F$31))))) -> 0 | BH19: =IF($BG$11=1,(BB19+BC19+(LOOKUP(BD19,'Tabla de puntos'!$C$6:$C$16,'Tabla de puntos'!$D$6:$D$16)+LOOKUP(BE19,'Tabla de puntos'!$C$6:$C$16,'Tabla de puntos'!$D$6:$D$16)+(LOOKUP(BF19,'Tabla de puntos'!$C$6:$C$16,'Tabla de puntos'!$E$6:$E$16))+(LOOKUP(BG19,'Tabla de puntos'!$C$6:$C$16,'Tabla de puntos'!$F$6:$F$16)))),(BB19+BC19+(LOOKUP(BD19,'Tabla de puntos'!$C$21:$C$31,'Tabla de puntos'!$D$21:$D$31)+LOOKUP(BE19,'Tabla de puntos'!$C$21:$C$31,'Tabla de puntos'!$D$21:$D$31)+(LOOKUP(BF19,'Tabla de puntos'!$C$21:$C$31,'Tabla de puntos'!$E$21:$E$31))+(LOOKUP(BG19,'Tabla de puntos'!$C$21:$C$31,'Tabla de puntos'!$F$21:$F$31))))) -> 0 | BI19: =K19+R19+Y19+AF19+AM19+AT19+BA19+BH19 -> 0
B20: 8° | K20: =IF($J$11=1,(E20+F20+(LOOKUP(G20,'Tabla de puntos'!$C$6:$C$16,'Tabla de puntos'!$D$6:$D$16)+LOOKUP(H20,'Tabla de puntos'!$C$6:$C$16,'Tabla de puntos'!$D$6:$D$16)+(LOOKUP(I20,'Tabla de puntos'!$C$6:$C$16,'Tabla de puntos'!$E$6:$E$16))+(LOOKUP(J20,'Tabla de puntos'!$C$6:$C$16,'Tabla de puntos'!$F$6:$F$16)))),(E20+F20+(LOOKUP(G20,'Tabla de puntos'!$C$21:$C$31,'Tabla de puntos'!$D$21:$D$31)+LOOKUP(H20,'Tabla de puntos'!$C$21:$C$31,'Tabla de puntos'!$D$21:$D$31)+(LOOKUP(I20,'Tabla de puntos'!$C$21:$C$31,'Tabla de puntos'!$E$21:$E$31))+(LOOKUP(J20,'Tabla de puntos'!$C$21:$C$31,'Tabla de puntos'!$F$21:$F$31))))) -> 0 | R20: =IF($Q$11=1,(L20+M20+(LOOKUP(N20,'Tabla de puntos'!$C$6:$C$16,'Tabla de puntos'!$D$6:$D$16)+LOOKUP(O20,'Tabla de puntos'!$C$6:$C$16,'Tabla de puntos'!$D$6:$D$16)+(LOOKUP(P20,'Tabla de puntos'!$C$6:$C$16,'Tabla de puntos'!$E$6:$E$16))+(LOOKUP(Q20,'Tabla de puntos'!$C$6:$C$16,'Tabla de puntos'!$F$6:$F$16)))),(L20+M20+(LOOKUP(N20,'Tabla de puntos'!$C$21:$C$31,'Tabla de puntos'!$D$21:$D$31)+LOOKUP(O20,'Tabla de puntos'!$C$21:$C$31,'Tabla de puntos'!$D$21:$D$31)+(LOOKUP(P20,'Tabla de puntos'!$C$21:$C$31,'Tabla de puntos'!$E$21:$E$31))+(LOOKUP(Q20,'Tabla de puntos'!$C$21:$C$31,'Tabla de puntos'!$F$21:$F$31))))) -> 0 | Y20: =IF($X$11=1,(S20+T20+(LOOKUP(U20,'Tabla de puntos'!$C$6:$C$16,'Tabla de puntos'!$D$6:$D$16)+LOOKUP(V20,'Tabla de puntos'!$C$6:$C$16,'Tabla de puntos'!$D$6:$D$16)+(LOOKUP(W20,'Tabla de puntos'!$C$6:$C$16,'Tabla de puntos'!$E$6:$E$16))+(LOOKUP(X20,'Tabla de puntos'!$C$6:$C$16,'Tabla de puntos'!$F$6:$F$16)))),(S20+T20+(LOOKUP(U20,'Tabla de puntos'!$C$21:$C$31,'Tabla de puntos'!$D$21:$D$31)+LOOKUP(V20,'Tabla de puntos'!$C$21:$C$31,'Tabla de puntos'!$D$21:$D$31)+(LOOKUP(W20,'Tabla de puntos'!$C$21:$C$31,'Tabla de puntos'!$E$21:$E$31))+(LOOKUP(X20,'Tabla de puntos'!$C$21:$C$31,'Tabla de puntos'!$F$21:$F$31))))) -> 0 | AF20: =IF($AE$11=1,(Z20+AA20+(LOOKUP(AB20,'Tabla de puntos'!$C$6:$C$16,'Tabla de puntos'!$D$6:$D$16)+LOOKUP(AC20,'Tabla de puntos'!$C$6:$C$16,'Tabla de puntos'!$D$6:$D$16)+(LOOKUP(AD20,'Tabla de puntos'!$C$6:$C$16,'Tabla de puntos'!$E$6:$E$16))+(LOOKUP(AE20,'Tabla de puntos'!$C$6:$C$16,'Tabla de puntos'!$F$6:$F$16)))),(Z20+AA20+(LOOKUP(AB20,'Tabla de puntos'!$C$21:$C$31,'Tabla de puntos'!$D$21:$D$31)+LOOKUP(AC20,'Tabla de puntos'!$C$21:$C$31,'Tabla de puntos'!$D$21:$D$31)+(LOOKUP(AD20,'Tabla de puntos'!$C$21:$C$31,'Tabla de puntos'!$E$21:$E$31))+(LOOKUP(AE20,'Tabla de puntos'!$C$21:$C$31,'Tabla de puntos'!$F$21:$F$31))))) -> 0 | AM20: =IF($AL$11=1,(AG20+AH20+(LOOKUP(AI20,'Tabla de puntos'!$C$6:$C$16,'Tabla de puntos'!$D$6:$D$16)+LOOKUP(AJ20,'Tabla de puntos'!$C$6:$C$16,'Tabla de puntos'!$D$6:$D$16)+(LOOKUP(AK20,'Tabla de puntos'!$C$6:$C$16,'Tabla de puntos'!$E$6:$E$16))+(LOOKUP(AL20,'Tabla de puntos'!$C$6:$C$16,'Tabla de puntos'!$F$6:$F$16)))),(AG20+AH20+(LOOKUP(AI20,'Tabla de puntos'!$C$21:$C$31,'Tabla de puntos'!$D$21:$D$31)+LOOKUP(AJ20,'Tabla de puntos'!$C$21:$C$31,'Tabla de puntos'!$D$21:$D$31)+(LOOKUP(AK20,'Tabla de puntos'!$C$21:$C$31,'Tabla de puntos'!$E$21:$E$31))+(LOOKUP(AL20,'Tabla de puntos'!$C$21:$C$31,'Tabla de puntos'!$F$21:$F$31))))) -> 0 | AT20: =IF($AS$11=1,(AN20+AO20+(LOOKUP(AP20,'Tabla de puntos'!$C$6:$C$16,'Tabla de puntos'!$D$6:$D$16)+LOOKUP(AQ20,'Tabla de puntos'!$C$6:$C$16,'Tabla de puntos'!$D$6:$D$16)+(LOOKUP(AR20,'Tabla de puntos'!$C$6:$C$16,'Tabla de puntos'!$E$6:$E$16))+(LOOKUP(AS20,'Tabla de puntos'!$C$6:$C$16,'Tabla de puntos'!$F$6:$F$16)))),(AN20+AO20+(LOOKUP(AP20,'Tabla de puntos'!$C$21:$C$31,'Tabla de puntos'!$D$21:$D$31)+LOOKUP(AQ20,'Tabla de puntos'!$C$21:$C$31,'Tabla de puntos'!$D$21:$D$31)+(LOOKUP(AR20,'Tabla de puntos'!$C$21:$C$31,'Tabla de puntos'!$E$21:$E$31))+(LOOKUP(AS20,'Tabla de puntos'!$C$21:$C$31,'Tabla de puntos'!$F$21:$F$31))))) -> 0 | BA20: =IF($AZ$11=1,(AU20+AV20+(LOOKUP(AW20,'Tabla de puntos'!$C$6:$C$16,'Tabla de puntos'!$D$6:$D$16)+LOOKUP(AX20,'Tabla de puntos'!$C$6:$C$16,'Tabla de puntos'!$D$6:$D$16)+(LOOKUP(AY20,'Tabla de puntos'!$C$6:$C$16,'Tabla de puntos'!$E$6:$E$16))+(LOOKUP(AZ20,'Tabla de puntos'!$C$6:$C$16,'Tabla de puntos'!$F$6:$F$16)))),(AU20+AV20+(LOOKUP(AW20,'Tabla de puntos'!$C$21:$C$31,'Tabla de puntos'!$D$21:$D$31)+LOOKUP(AX20,'Tabla de puntos'!$C$21:$C$31,'Tabla de puntos'!$D$21:$D$31)+(LOOKUP(AY20,'Tabla de puntos'!$C$21:$C$31,'Tabla de puntos'!$E$21:$E$31))+(LOOKUP(AZ20,'Tabla de puntos'!$C$21:$C$31,'Tabla de puntos'!$F$21:$F$31))))) -> 0 | BH20: =IF($BG$11=1,(BB20+BC20+(LOOKUP(BD20,'Tabla de puntos'!$C$6:$C$16,'Tabla de puntos'!$D$6:$D$16)+LOOKUP(BE20,'Tabla de puntos'!$C$6:$C$16,'Tabla de puntos'!$D$6:$D$16)+(LOOKUP(BF20,'Tabla de puntos'!$C$6:$C$16,'Tabla de puntos'!$E$6:$E$16))+(LOOKUP(BG20,'Tabla de puntos'!$C$6:$C$16,'Tabla de puntos'!$F$6:$F$16)))),(BB20+BC20+(LOOKUP(BD20,'Tabla de puntos'!$C$21:$C$31,'Tabla de puntos'!$D$21:$D$31)+LOOKUP(BE20,'Tabla de puntos'!$C$21:$C$31,'Tabla de puntos'!$D$21:$D$31)+(LOOKUP(BF20,'Tabla de puntos'!$C$21:$C$31,'Tabla de puntos'!$E$21:$E$31))+(LOOKUP(BG20,'Tabla de puntos'!$C$21:$C$31,'Tabla de puntos'!$F$21:$F$31))))) -> 0 | BI20: =K20+R20+Y20+AF20+AM20+AT20+BA20+BH20 -> 0
B21: 9° | K21: =IF($J$11=1,(E21+F21+(LOOKUP(G21,'Tabla de puntos'!$C$6:$C$16,'Tabla de puntos'!$D$6:$D$16)+LOOKUP(H21,'Tabla de puntos'!$C$6:$C$16,'Tabla de puntos'!$D$6:$D$16)+(LOOKUP(I21,'Tabla de puntos'!$C$6:$C$16,'Tabla de puntos'!$E$6:$E$16))+(LOOKUP(J21,'Tabla de puntos'!$C$6:$C$16,'Tabla de puntos'!$F$6:$F$16)))),(E21+F21+(LOOKUP(G21,'Tabla de puntos'!$C$21:$C$31,'Tabla de puntos'!$D$21:$D$31)+LOOKUP(H21,'Tabla de puntos'!$C$21:$C$31,'Tabla de puntos'!$D$21:$D$31)+(LOOKUP(I21,'Tabla de puntos'!$C$21:$C$31,'Tabla de puntos'!$E$21:$E$31))+(LOOKUP(J21,'Tabla de puntos'!$C$21:$C$31,'Tabla de puntos'!$F$21:$F$31))))) -> 0 | R21: =IF($Q$11=1,(L21+M21+(LOOKUP(N21,'Tabla de puntos'!$C$6:$C$16,'Tabla de puntos'!$D$6:$D$16)+LOOKUP(O21,'Tabla de puntos'!$C$6:$C$16,'Tabla de puntos'!$D$6:$D$16)+(LOOKUP(P21,'Tabla de puntos'!$C$6:$C$16,'Tabla de puntos'!$E$6:$E$16))+(LOOKUP(Q21,'Tabla de puntos'!$C$6:$C$16,'Tabla de puntos'!$F$6:$F$16)))),(L21+M21+(LOOKUP(N21,'Tabla de puntos'!$C$21:$C$31,'Tabla de puntos'!$D$21:$D$31)+LOOKUP(O21,'Tabla de puntos'!$C$21:$C$31,'Tabla de puntos'!$D$21:$D$31)+(LOOKUP(P21,'Tabla de puntos'!$C$21:$C$31,'Tabla de puntos'!$E$21:$E$31))+(LOOKUP(Q21,'Tabla de puntos'!$C$21:$C$31,'Tabla de puntos'!$F$21:$F$31))))) -> 0 | Y21: =IF($X$11=1,(S21+T21+(LOOKUP(U21,'Tabla de puntos'!$C$6:$C$16,'Tabla de puntos'!$D$6:$D$16)+LOOKUP(V21,'Tabla de puntos'!$C$6:$C$16,'Tabla de puntos'!$D$6:$D$16)+(LOOKUP(W21,'Tabla de puntos'!$C$6:$C$16,'Tabla de puntos'!$E$6:$E$16))+(LOOKUP(X21,'Tabla de puntos'!$C$6:$C$16,'Tabla de puntos'!$F$6:$F$16)))),(S21+T21+(LOOKUP(U21,'Tabla de puntos'!$C$21:$C$31,'Tabla de puntos'!$D$21:$D$31)+LOOKUP(V21,'Tabla de puntos'!$C$21:$C$31,'Tabla de puntos'!$D$21:$D$31)+(LOOKUP(W21,'Tabla de puntos'!$C$21:$C$31,'Tabla de puntos'!$E$21:$E$31))+(LOOKUP(X21,'Tabla de puntos'!$C$21:$C$31,'Tabla de puntos'!$F$21:$F$31))))) -> 0 | AF21: =IF($AE$11=1,(Z21+AA21+(LOOKUP(AB21,'Tabla de puntos'!$C$6:$C$16,'Tabla de puntos'!$D$6:$D$16)+LOOKUP(AC21,'Tabla de puntos'!$C$6:$C$16,'Tabla de puntos'!$D$6:$D$16)+(LOOKUP(AD21,'Tabla de puntos'!$C$6:$C$16,'Tabla de puntos'!$E$6:$E$16))+(LOOKUP(AE21,'Tabla de puntos'!$C$6:$C$16,'Tabla de puntos'!$F$6:$F$16)))),(Z21+AA21+(LOOKUP(AB21,'Tabla de puntos'!$C$21:$C$31,'Tabla de puntos'!$D$21:$D$31)+LOOKUP(AC21,'Tabla de puntos'!$C$21:$C$31,'Tabla de puntos'!$D$21:$D$31)+(LOOKUP(AD21,'Tabla de puntos'!$C$21:$C$31,'Tabla de puntos'!$E$21:$E$31))+(LOOKUP(AE21,'Tabla de puntos'!$C$21:$C$31,'Tabla de puntos'!$F$21:$F$31))))) -> 0 | AM21: =IF($AL$11=1,(AG21+AH21+(LOOKUP(AI21,'Tabla de puntos'!$C$6:$C$16,'Tabla de puntos'!$D$6:$D$16)+LOOKUP(AJ21,'Tabla de puntos'!$C$6:$C$16,'Tabla de puntos'!$D$6:$D$16)+(LOOKUP(AK21,'Tabla de puntos'!$C$6:$C$16,'Tabla de puntos'!$E$6:$E$16))+(LOOKUP(AL21,'Tabla de puntos'!$C$6:$C$16,'Tabla de puntos'!$F$6:$F$16)))),(AG21+AH21+(LOOKUP(AI21,'Tabla de puntos'!$C$21:$C$31,'Tabla de puntos'!$D$21:$D$31)+LOOKUP(AJ21,'Tabla de puntos'!$C$21:$C$31,'Tabla de puntos'!$D$21:$D$31)+(LOOKUP(AK21,'Tabla de puntos'!$C$21:$C$31,'Tabla de puntos'!$E$21:$E$31))+(LOOKUP(AL21,'Tabla de puntos'!$C$21:$C$31,'Tabla de puntos'!$F$21:$F$31))))) -> 0 | AT21: =IF($AS$11=1,(AN21+AO21+(LOOKUP(AP21,'Tabla de puntos'!$C$6:$C$16,'Tabla de puntos'!$D$6:$D$16)+LOOKUP(AQ21,'Tabla de puntos'!$C$6:$C$16,'Tabla de puntos'!$D$6:$D$16)+(LOOKUP(AR21,'Tabla de puntos'!$C$6:$C$16,'Tabla de puntos'!$E$6:$E$16))+(LOOKUP(AS21,'Tabla de puntos'!$C$6:$C$16,'Tabla de puntos'!$F$6:$F$16)))),(AN21+AO21+(LOOKUP(AP21,'Tabla de puntos'!$C$21:$C$31,'Tabla de puntos'!$D$21:$D$31)+LOOKUP(AQ21,'Tabla de puntos'!$C$21:$C$31,'Tabla de puntos'!$D$21:$D$31)+(LOOKUP(AR21,'Tabla de puntos'!$C$21:$C$31,'Tabla de puntos'!$E$21:$E$31))+(LOOKUP(AS21,'Tabla de puntos'!$C$21:$C$31,'Tabla de puntos'!$F$21:$F$31))))) -> 0 | BA21: =IF($AZ$11=1,(AU21+AV21+(LOOKUP(AW21,'Tabla de puntos'!$C$6:$C$16,'Tabla de puntos'!$D$6:$D$16)+LOOKUP(AX21,'Tabla de puntos'!$C$6:$C$16,'Tabla de puntos'!$D$6:$D$16)+(LOOKUP(AY21,'Tabla de puntos'!$C$6:$C$16,'Tabla de puntos'!$E$6:$E$16))+(LOOKUP(AZ21,'Tabla de puntos'!$C$6:$C$16,'Tabla de puntos'!$F$6:$F$16)))),(AU21+AV21+(LOOKUP(AW21,'Tabla de puntos'!$C$21:$C$31,'Tabla de puntos'!$D$21:$D$31)+LOOKUP(AX21,'Tabla de puntos'!$C$21:$C$31,'Tabla de puntos'!$D$21:$D$31)+(LOOKUP(AY21,'Tabla de puntos'!$C$21:$C$31,'Tabla de puntos'!$E$21:$E$31))+(LOOKUP(AZ21,'Tabla de puntos'!$C$21:$C$31,'Tabla de puntos'!$F$21:$F$31))))) -> 0 | BH21: =IF($BG$11=1,(BB21+BC21+(LOOKUP(BD21,'Tabla de puntos'!$C$6:$C$16,'Tabla de puntos'!$D$6:$D$16)+LOOKUP(BE21,'Tabla de puntos'!$C$6:$C$16,'Tabla de puntos'!$D$6:$D$16)+(LOOKUP(BF21,'Tabla de puntos'!$C$6:$C$16,'Tabla de puntos'!$E$6:$E$16))+(LOOKUP(BG21,'Tabla de puntos'!$C$6:$C$16,'Tabla de puntos'!$F$6:$F$16)))),(BB21+BC21+(LOOKUP(BD21,'Tabla de puntos'!$C$21:$C$31,'Tabla de puntos'!$D$21:$D$31)+LOOKUP(BE21,'Tabla de puntos'!$C$21:$C$31,'Tabla de puntos'!$D$21:$D$31)+(LOOKUP(BF21,'Tabla de puntos'!$C$21:$C$31,'Tabla de puntos'!$E$21:$E$31))+(LOOKUP(BG21,'Tabla de puntos'!$C$21:$C$31,'Tabla de puntos'!$F$21:$F$31))))) -> 0 | BI21: =K21+R21+Y21+AF21+AM21+AT21+BA21+BH21 -> 0
B22: 10° | K22: =IF($J$11=1,(E22+F22+(LOOKUP(G22,'Tabla de puntos'!$C$6:$C$16,'Tabla de puntos'!$D$6:$D$16)+LOOKUP(H22,'Tabla de puntos'!$C$6:$C$16,'Tabla de puntos'!$D$6:$D$16)+(LOOKUP(I22,'Tabla de puntos'!$C$6:$C$16,'Tabla de puntos'!$E$6:$E$16))+(LOOKUP(J22,'Tabla de puntos'!$C$6:$C$16,'Tabla de puntos'!$F$6:$F$16)))),(E22+F22+(LOOKUP(G22,'Tabla de puntos'!$C$21:$C$31,'Tabla de puntos'!$D$21:$D$31)+LOOKUP(H22,'Tabla de puntos'!$C$21:$C$31,'Tabla de puntos'!$D$21:$D$31)+(LOOKUP(I22,'Tabla de puntos'!$C$21:$C$31,'Tabla de puntos'!$E$21:$E$31))+(LOOKUP(J22,'Tabla de puntos'!$C$21:$C$31,'Tabla de puntos'!$F$21:$F$31))))) -> 0 | R22: =IF($Q$11=1,(L22+M22+(LOOKUP(N22,'Tabla de puntos'!$C$6:$C$16,'Tabla de puntos'!$D$6:$D$16)+LOOKUP(O22,'Tabla de puntos'!$C$6:$C$16,'Tabla de puntos'!$D$6:$D$16)+(LOOKUP(P22,'Tabla de puntos'!$C$6:$C$16,'Tabla de puntos'!$E$6:$E$16))+(LOOKUP(Q22,'Tabla de puntos'!$C$6:$C$16,'Tabla de puntos'!$F$6:$F$16)))),(L22+M22+(LOOKUP(N22,'Tabla de puntos'!$C$21:$C$31,'Tabla de puntos'!$D$21:$D$31)+LOOKUP(O22,'Tabla de puntos'!$C$21:$C$31,'Tabla de puntos'!$D$21:$D$31)+(LOOKUP(P22,'Tabla de puntos'!$C$21:$C$31,'Tabla de puntos'!$E$21:$E$31))+(LOOKUP(Q22,'Tabla de puntos'!$C$21:$C$31,'Tabla de puntos'!$F$21:$F$31))))) -> 0 | Y22: =IF($X$11=1,(S22+T22+(LOOKUP(U22,'Tabla de puntos'!$C$6:$C$16,'Tabla de puntos'!$D$6:$D$16)+LOOKUP(V22,'Tabla de puntos'!$C$6:$C$16,'Tabla de puntos'!$D$6:$D$16)+(LOOKUP(W22,'Tabla de puntos'!$C$6:$C$16,'Tabla de puntos'!$E$6:$E$16))+(LOOKUP(X22,'Tabla de puntos'!$C$6:$C$16,'Tabla de puntos'!$F$6:$F$16)))),(S22+T22+(LOOKUP(U22,'Tabla de puntos'!$C$21:$C$31,'Tabla de puntos'!$D$21:$D$31)+LOOKUP(V22,'Tabla de puntos'!$C$21:$C$31,'Tabla de puntos'!$D$21:$D$31)+(LOOKUP(W22,'Tabla de puntos'!$C$21:$C$31,'Tabla de puntos'!$E$21:$E$31))+(LOOKUP(X22,'Tabla de puntos'!$C$21:$C$31,'Tabla de puntos'!$F$21:$F$31))))) -> 0 | AF22: =IF($AE$11=1,(Z22+AA22+(LOOKUP(AB22,'Tabla de puntos'!$C$6:$C$16,'Tabla de puntos'!$D$6:$D$16)+LOOKUP(AC22,'Tabla de puntos'!$C$6:$C$16,'Tabla de puntos'!$D$6:$D$16)+(LOOKUP(AD22,'Tabla de puntos'!$C$6:$C$16,'Tabla de puntos'!$E$6:$E$16))+(LOOKUP(AE22,'Tabla de puntos'!$C$6:$C$16,'Tabla de puntos'!$F$6:$F$16)))),(Z22+AA22+(LOOKUP(AB22,'Tabla de puntos'!$C$21:$C$31,'Tabla de puntos'!$D$21:$D$31)+LOOKUP(AC22,'Tabla de puntos'!$C$21:$C$31,'Tabla de puntos'!$D$21:$D$31)+(LOOKUP(AD22,'Tabla de puntos'!$C$21:$C$31,'Tabla de puntos'!$E$21:$E$31))+(LOOKUP(AE22,'Tabla de puntos'!$C$21:$C$31,'Tabla de puntos'!$F$21:$F$31))))) -> 0 | AM22: =IF($AL$11=1,(AG22+AH22+(LOOKUP(AI22,'Tabla de puntos'!$C$6:$C$16,'Tabla de puntos'!$D$6:$D$16)+LOOKUP(AJ22,'Tabla de puntos'!$C$6:$C$16,'Tabla de puntos'!$D$6:$D$16)+(LOOKUP(AK22,'Tabla de puntos'!$C$6:$C$16,'Tabla de puntos'!$E$6:$E$16))+(LOOKUP(AL22,'Tabla de puntos'!$C$6:$C$16,'Tabla de puntos'!$F$6:$F$16)))),(AG22+AH22+(LOOKUP(AI22,'Tabla de puntos'!$C$21:$C$31,'Tabla de puntos'!$D$21:$D$31)+LOOKUP(AJ22,'Tabla de puntos'!$C$21:$C$31,'Tabla de puntos'!$D$21:$D$31)+(LOOKUP(AK22,'Tabla de puntos'!$C$21:$C$31,'Tabla de puntos'!$E$21:$E$31))+(LOOKUP(AL22,'Tabla de puntos'!$C$21:$C$31,'Tabla de puntos'!$F$21:$F$31))))) -> 0 | AT22: =IF($AS$11=1,(AN22+AO22+(LOOKUP(AP22,'Tabla de puntos'!$C$6:$C$16,'Tabla de puntos'!$D$6:$D$16)+LOOKUP(AQ22,'Tabla de puntos'!$C$6:$C$16,'Tabla de puntos'!$D$6:$D$16)+(LOOKUP(AR22,'Tabla de puntos'!$C$6:$C$16,'Tabla de puntos'!$E$6:$E$16))+(LOOKUP(AS22,'Tabla de puntos'!$C$6:$C$16,'Tabla de puntos'!$F$6:$F$16)))),(AN22+AO22+(LOOKUP(AP22,'Tabla de puntos'!$C$21:$C$31,'Tabla de puntos'!$D$21:$D$31)+LOOKUP(AQ22,'Tabla de puntos'!$C$21:$C$31,'Tabla de puntos'!$D$21:$D$31)+(LOOKUP(AR22,'Tabla de puntos'!$C$21:$C$31,'Tabla de puntos'!$E$21:$E$31))+(LOOKUP(AS22,'Tabla de puntos'!$C$21:$C$31,'Tabla de puntos'!$F$21:$F$31))))) -> 0 | BA22: =IF($AZ$11=1,(AU22+AV22+(LOOKUP(AW22,'Tabla de puntos'!$C$6:$C$16,'Tabla de puntos'!$D$6:$D$16)+LOOKUP(AX22,'Tabla de puntos'!$C$6:$C$16,'Tabla de puntos'!$D$6:$D$16)+(LOOKUP(AY22,'Tabla de puntos'!$C$6:$C$16,'Tabla de puntos'!$E$6:$E$16))+(LOOKUP(AZ22,'Tabla de puntos'!$C$6:$C$16,'Tabla de puntos'!$F$6:$F$16)))),(AU22+AV22+(LOOKUP(AW22,'Tabla de puntos'!$C$21:$C$31,'Tabla de puntos'!$D$21:$D$31)+LOOKUP(AX22,'Tabla de puntos'!$C$21:$C$31,'Tabla de puntos'!$D$21:$D$31)+(LOOKUP(AY22,'Tabla de puntos'!$C$21:$C$31,'Tabla de puntos'!$E$21:$E$31))+(LOOKUP(AZ22,'Tabla de puntos'!$C$21:$C$31,'Tabla de puntos'!$F$21:$F$31))))) -> 0 | BH22: =IF($BG$11=1,(BB22+BC22+(LOOKUP(BD22,'Tabla de puntos'!$C$6:$C$16,'Tabla de puntos'!$D$6:$D$16)+LOOKUP(BE22,'Tabla de puntos'!$C$6:$C$16,'Tabla de puntos'!$D$6:$D$16)+(LOOKUP(BF22,'Tabla de puntos'!$C$6:$C$16,'Tabla de puntos'!$E$6:$E$16))+(LOOKUP(BG22,'Tabla de puntos'!$C$6:$C$16,'Tabla de puntos'!$F$6:$F$16)))),(BB22+BC22+(LOOKUP(BD22,'Tabla de puntos'!$C$21:$C$31,'Tabla de puntos'!$D$21:$D$31)+LOOKUP(BE22,'Tabla de puntos'!$C$21:$C$31,'Tabla de puntos'!$D$21:$D$31)+(LOOKUP(BF22,'Tabla de puntos'!$C$21:$C$31,'Tabla de puntos'!$E$21:$E$31))+(LOOKUP(BG22,'Tabla de puntos'!$C$21:$C$31,'Tabla de puntos'!$F$21:$F$31))))) -> 0 | BI22: =K22+R22+Y22+AF22+AM22+AT22+BA22+BH22 -> 0
B28: POS | C28: N° | D28: CLASE MR - NAVEGANTES | E28: CDA DE GOMEZ | J28: 1 | K28: TOTAL F1 | L28: SAN JORGE | Q28: 2 | R28: TOTAL F2 | S28: VILLA ELOISA | X28: 1 | Y28: TOTAL F3 | Z28: PUJATO | AE28: 1 | AF28: TOTAL F4 | AG28: AREQUITO | AL28: 1 | AM28: TOTAL F5 | AN28: HUGHES | AS28: 1 | AT28: TOTAL F6 | AU28: CASILDA | AZ28: 1 | BA28: TOTAL F7 | BB28: PÉREZ | BG28: 2 | BH28: TOTAL F8 | BI28: TOTAL
E29: A | F29: R | G29: E1 | H29: E2 | I29: PS | J29: GRAL | L29: A | M29: R | N29: E1 | O29: E2 | P29: PS | Q29: GRAL | S29: A | T29: R | U29: E1 | V29: E2 | W29: PS | X29: GRAL | Z29: A | AA29: R | AB29: E1 | AC29: E2 | AD29: PS | AE29: GRAL | AG29: A | AH29: R | AI29: E1 | AJ29: E2 | AK29: PS | AL29: GRAL | AN29: A | AO29: R | AP29: E1 | AQ29: E2 | AR29: PS | AS29: GRAL | AU29: A | AV29: R | AW29: E1 | AX29: E2 | AY29: PS | AZ29: GRAL | BB29: A | BC29: R | BD29: E1 | BE29: E2 | BF29: PS | BG29: GRAL
B30: 1° | D30: Gerardo Scicolone «««««« | E30: 1 | F30: 5 | G30: 1 | H30: 1 | I30: 1 | J30: 1 | K30: =IF($J$28=1,(E30+F30+(LOOKUP(G30,'Tabla de puntos'!$C$6:$C$16,'Tabla de puntos'!$D$6:$D$16)+LOOKUP(H30,'Tabla de puntos'!$C$6:$C$16,'Tabla de puntos'!$D$6:$D$16)+(LOOKUP(I30,'Tabla de puntos'!$C$6:$C$16,'Tabla de puntos'!$E$6:$E$16))+(LOOKUP(J30,'Tabla de puntos'!$C$6:$C$16,'Tabla de puntos'!$F$6:$F$16)))),(E30+F30+(LOOKUP(G30,'Tabla de puntos'!$C$21:$C$31,'Tabla de puntos'!$D$21:$D$31)+LOOKUP(H30,'Tabla de puntos'!$C$21:$C$31,'Tabla de puntos'!$D$21:$D$31)+(LOOKUP(I30,'Tabla de puntos'!$C$21:$C$31,'Tabla de puntos'!$E$21:$E$31))+(LOOKUP(J30,'Tabla de puntos'!$C$21:$C$31,'Tabla de puntos'!$F$21:$F$31))))) -> 58 | L30: 1 | M30: 5 | N30: 1 | O30: 1 | P30: 1 | Q30: 1 | R30: =IF($Q$28=1,(L30+M30+(LOOKUP(N30,'Tabla de puntos'!$C$6:$C$16,'Tabla de puntos'!$D$6:$D$16)+LOOKUP(O30,'Tabla de puntos'!$C$6:$C$16,'Tabla de puntos'!$D$6:$D$16)+(LOOKUP(P30,'Tabla de puntos'!$C$6:$C$16,'Tabla de puntos'!$E$6:$E$16))+(LOOKUP(Q30,'Tabla de puntos'!$C$6:$C$16,'Tabla de puntos'!$F$6:$F$16)))),(L30+M30+(LOOKUP(N30,'Tabla de puntos'!$C$21:$C$31,'Tabla de puntos'!$D$21:$D$31)+LOOKUP(O30,'Tabla de puntos'!$C$21:$C$31,'Tabla de puntos'!$D$21:$D$31)+(LOOKUP(P30,'Tabla de puntos'!$C$21:$C$31,'Tabla de puntos'!$E$21:$E$31))+(LOOKUP(Q30,'Tabla de puntos'!$C$21:$C$31,'Tabla de puntos'!$F$21:$F$31))))) -> 84 | S30: 1 | T30: 5 | U30: 1 | V30: 1 | W30: 1 | X30: 1 | Y30: =IF($X$28=1,(S30+T30+(LOOKUP(U30,'Tabla de puntos'!$C$6:$C$16,'Tabla de puntos'!$D$6:$D$16)+LOOKUP(V30,'Tabla de puntos'!$C$6:$C$16,'Tabla de puntos'!$D$6:$D$16)+(LOOKUP(W30,'Tabla de puntos'!$C$6:$C$16,'Tabla de puntos'!$E$6:$E$16))+(LOOKUP(X30,'Tabla de puntos'!$C$6:$C$16,'Tabla de puntos'!$F$6:$F$16)))),(S30+T30+(LOOKUP(U30,'Tabla de puntos'!$C$21:$C$31,'Tabla de puntos'!$D$21:$D$31)+LOOKUP(V30,'Tabla de puntos'!$C$21:$C$31,'Tabla de puntos'!$D$21:$D$31)+(LOOKUP(W30,'Tabla de puntos'!$C$21:$C$31,'Tabla de puntos'!$E$21:$E$31))+(LOOKUP(X30,'Tabla de puntos'!$C$21:$C$31,'Tabla de puntos'!$F$21:$F$31))))) -> 58 | AF30: =IF($AE$28=1,(Z30+AA30+(LOOKUP(AB30,'Tabla de puntos'!$C$6:$C$16,'Tabla de puntos'!$D$6:$D$16)+LOOKUP(AC30,'Tabla de puntos'!$C$6:$C$16,'Tabla de puntos'!$D$6:$D$16)+(LOOKUP(AD30,'Tabla de puntos'!$C$6:$C$16,'Tabla de puntos'!$E$6:$E$16))+(LOOKUP(AE30,'Tabla de puntos'!$C$6:$C$16,'Tabla de puntos'!$F$6:$F$16)))),(Z30+AA30+(LOOKUP(AB30,'Tabla de puntos'!$C$21:$C$31,'Tabla de puntos'!$D$21:$D$31)+LOOKUP(AC30,'Tabla de puntos'!$C$21:$C$31,'Tabla de puntos'!$D$21:$D$31)+(LOOKUP(AD30,'Tabla de puntos'!$C$21:$C$31,'Tabla de puntos'!$E$21:$E$31))+(LOOKUP(AE30,'Tabla de puntos'!$C$21:$C$31,'Tabla de puntos'!$F$21:$F$31))))) -> 0 | AG30: 1 | AH30: 5 | AI30: 1 | AM30: =IF($AL$28=1,(AG30+AH30+(LOOKUP(AI30,'Tabla de puntos'!$C$6:$C$16,'Tabla de puntos'!$D$6:$D$16)+LOOKUP(AJ30,'Tabla de puntos'!$C$6:$C$16,'Tabla de puntos'!$D$6:$D$16)+(LOOKUP(AK30,'Tabla de puntos'!$C$6:$C$16,'Tabla de puntos'!$E$6:$E$16))+(LOOKUP(AL30,'Tabla de puntos'!$C$6:$C$16,'Tabla de puntos'!$F$6:$F$16)))),(AG30+AH30+(LOOKUP(AI30,'Tabla de puntos'!$C$21:$C$31,'Tabla de puntos'!$D$21:$D$31)+LOOKUP(AJ30,'Tabla de puntos'!$C$21:$C$31,'Tabla de puntos'!$D$21:$D$31)+(LOOKUP(AK30,'Tabla de puntos'!$C$21:$C$31,'Tabla de puntos'!$E$21:$E$31))+(LOOKUP(AL30,'Tabla de puntos'!$C$21:$C$31,'Tabla de puntos'!$F$21:$F$31))))) -> 18 | AN30: 1 | AO30: 5 | AP30: 1 | AQ30: 1 | AR30: 1 | AS30: 1 | AT30: =IF($AS$28=1,(AN30+AO30+(LOOKUP(AP30,'Tabla de puntos'!$C$6:$C$16,'Tabla de puntos'!$D$6:$D$16)+LOOKUP(AQ30,'Tabla de puntos'!$C$6:$C$16,'Tabla de puntos'!$D$6:$D$16)+(LOOKUP(AR30,'Tabla de puntos'!$C$6:$C$16,'Tabla de puntos'!$E$6:$E$16))+(LOOKUP(AS30,'Tabla de puntos'!$C$6:$C$16,'Tabla de puntos'!$F$6:$F$16)))),(AN30+AO30+(LOOKUP(AP30,'Tabla de puntos'!$C$21:$C$31,'Tabla de puntos'!$D$21:$D$31)+LOOKUP(AQ30,'Tabla de puntos'!$C$21:$C$31,'Tabla de puntos'!$D$21:$D$31)+(LOOKUP(AR30,'Tabla de puntos'!$C$21:$C$31,'Tabla de puntos'!$E$21:$E$31))+(LOOKUP(AS30,'Tabla de puntos'!$C$21:$C$31,'Tabla de puntos'!$F$21:$F$31))))) -> 58 | AU30: 1 | AV30: 5 | AW30: 1 | AZ30: 1 | BA30: =IF($AZ$28=1,(AU30+AV30+(LOOKUP(AW30,'Tabla de puntos'!$C$6:$C$16,'Tabla de puntos'!$D$6:$D$16)+LOOKUP(AX30,'Tabla de puntos'!$C$6:$C$16,'Tabla de puntos'!$D$6:$D$16)+(LOOKUP(AY30,'Tabla de puntos'!$C$6:$C$16,'Tabla de puntos'!$E$6:$E$16))+(LOOKUP(AZ30,'Tabla de puntos'!$C$6:$C$16,'Tabla de puntos'!$F$6:$F$16)))),(AU30+AV30+(LOOKUP(AW30,'Tabla de puntos'!$C$21:$C$31,'Tabla de puntos'!$D$21:$D$31)+LOOKUP(AX30,'Tabla de puntos'!$C$21:$C$31,'Tabla de puntos'!$D$21:$D$31)+(LOOKUP(AY30,'Tabla de puntos'!$C$21:$C$31,'Tabla de puntos'!$E$21:$E$31))+(LOOKUP(AZ30,'Tabla de puntos'!$C$21:$C$31,'Tabla de puntos'!$F$21:$F$31))))) -> 43 | BB30: 1 | BC30: 5 | BD30: 1 | BE30: 1 | BF30: 1 | BG30: 1 | BH30: =IF($BG$11=1,(BB30+BC30+(LOOKUP(BD30,'Tabla de puntos'!$C$6:$C$16,'Tabla de puntos'!$D$6:$D$16)+LOOKUP(BE30,'Tabla de puntos'!$C$6:$C$16,'Tabla de puntos'!$D$6:$D$16)+(LOOKUP(BF30,'Tabla de puntos'!$C$6:$C$16,'Tabla de puntos'!$E$6:$E$16))+(LOOKUP(BG30,'Tabla de puntos'!$C$6:$C$16,'Tabla de puntos'!$F$6:$F$16)))),(BB30+BC30+(LOOKUP(BD30,'Tabla de puntos'!$C$21:$C$31,'Tabla de puntos'!$D$21:$D$31)+LOOKUP(BE30,'Tabla de puntos'!$C$21:$C$31,'Tabla de puntos'!$D$21:$D$31)+(LOOKUP(BF30,'Tabla de puntos'!$C$21:$C$31,'Tabla de puntos'!$E$21:$E$31))+(LOOKUP(BG30,'Tabla de puntos'!$C$21:$C$31,'Tabla de puntos'!$F$21:$F$31))))) -> 84 | BI30: =K30+R30+Y30+AF30+AM30+AT30+BA30+BH30 -> 403
